BEGIN:VCALENDAR
VERSION:2.0
PRODID:-//SonRise Christian Fellowship - ECPv6.15.20//NONSGML v1.0//EN
CALSCALE:GREGORIAN
METHOD:PUBLISH
X-ORIGINAL-URL:https://sonrisefallbrook.com
X-WR-CALDESC:Events for SonRise Christian Fellowship
REFRESH-INTERVAL;VALUE=DURATION:PT1H
X-Robots-Tag:noindex
X-PUBLISHED-TTL:PT1H
BEGIN:VTIMEZONE
TZID:UTC
BEGIN:STANDARD
TZOFFSETFROM:+0000
TZOFFSETTO:+0000
TZNAME:UTC
DTSTART:20250101T000000
END:STANDARD
END:VTIMEZONE
BEGIN:VEVENT
DTSTART;TZID=UTC:20260421T130000
DTEND;TZID=UTC:20260421T150000
DTSTAMP:20260422T061622
CREATED:20260111T162356Z
LAST-MODIFIED:20260111T162356Z
UID:10005741-1776776400-1776783600@sonrisefallbrook.com
SUMMARY:Grief Share Support
DESCRIPTION:Grief Share Support Group | Help and encouragement after the death of a loved one. \nJanuary 13 – April 7\nTuesdays 1pm-3pm & 5-6:30pm\nwww.GriefShare.org
URL:https://sonrisefallbrook.com/event/grief-share-support/2026-04-21/
CATEGORIES:Grief Share
END:VEVENT
BEGIN:VEVENT
DTSTART;TZID=UTC:20260414T130000
DTEND;TZID=UTC:20260414T150000
DTSTAMP:20260422T061622
CREATED:20260111T162356Z
LAST-MODIFIED:20260111T162356Z
UID:10005740-1776171600-1776178800@sonrisefallbrook.com
SUMMARY:Grief Share Support
DESCRIPTION:Grief Share Support Group | Help and encouragement after the death of a loved one. \nJanuary 13 – April 7\nTuesdays 1pm-3pm & 5-6:30pm\nwww.GriefShare.org
URL:https://sonrisefallbrook.com/event/grief-share-support/2026-04-14/
CATEGORIES:Grief Share
END:VEVENT
BEGIN:VEVENT
DTSTART;TZID=UTC:20260407T130000
DTEND;TZID=UTC:20260407T150000
DTSTAMP:20260422T061622
CREATED:20260111T162356Z
LAST-MODIFIED:20260111T162356Z
UID:10005739-1775566800-1775574000@sonrisefallbrook.com
SUMMARY:Grief Share Support
DESCRIPTION:Grief Share Support Group | Help and encouragement after the death of a loved one. \nJanuary 13 – April 7\nTuesdays 1pm-3pm & 5-6:30pm\nwww.GriefShare.org
URL:https://sonrisefallbrook.com/event/grief-share-support/2026-04-07/
CATEGORIES:Grief Share
END:VEVENT
BEGIN:VEVENT
DTSTART;TZID=UTC:20260331T130000
DTEND;TZID=UTC:20260331T150000
DTSTAMP:20260422T061622
CREATED:20260111T162356Z
LAST-MODIFIED:20260111T162356Z
UID:10005738-1774962000-1774969200@sonrisefallbrook.com
SUMMARY:Grief Share Support
DESCRIPTION:Grief Share Support Group | Help and encouragement after the death of a loved one. \nJanuary 13 – April 7\nTuesdays 1pm-3pm & 5-6:30pm\nwww.GriefShare.org
URL:https://sonrisefallbrook.com/event/grief-share-support/2026-03-31/
CATEGORIES:Grief Share
END:VEVENT
BEGIN:VEVENT
DTSTART;TZID=UTC:20260324T130000
DTEND;TZID=UTC:20260324T150000
DTSTAMP:20260422T061622
CREATED:20260111T162356Z
LAST-MODIFIED:20260111T162356Z
UID:10005737-1774357200-1774364400@sonrisefallbrook.com
SUMMARY:Grief Share Support
DESCRIPTION:Grief Share Support Group | Help and encouragement after the death of a loved one. \nJanuary 13 – April 7\nTuesdays 1pm-3pm & 5-6:30pm\nwww.GriefShare.org
URL:https://sonrisefallbrook.com/event/grief-share-support/2026-03-24/
CATEGORIES:Grief Share
END:VEVENT
BEGIN:VEVENT
DTSTART;TZID=UTC:20260317T130000
DTEND;TZID=UTC:20260317T150000
DTSTAMP:20260422T061622
CREATED:20260111T162356Z
LAST-MODIFIED:20260111T162356Z
UID:10005736-1773752400-1773759600@sonrisefallbrook.com
SUMMARY:Grief Share Support
DESCRIPTION:Grief Share Support Group | Help and encouragement after the death of a loved one. \nJanuary 13 – April 7\nTuesdays 1pm-3pm & 5-6:30pm\nwww.GriefShare.org
URL:https://sonrisefallbrook.com/event/grief-share-support/2026-03-17/
CATEGORIES:Grief Share
END:VEVENT
BEGIN:VEVENT
DTSTART;TZID=UTC:20260310T130000
DTEND;TZID=UTC:20260310T150000
DTSTAMP:20260422T061622
CREATED:20260111T162356Z
LAST-MODIFIED:20260111T162356Z
UID:10005735-1773147600-1773154800@sonrisefallbrook.com
SUMMARY:Grief Share Support
DESCRIPTION:Grief Share Support Group | Help and encouragement after the death of a loved one. \nJanuary 13 – April 7\nTuesdays 1pm-3pm & 5-6:30pm\nwww.GriefShare.org
URL:https://sonrisefallbrook.com/event/grief-share-support/2026-03-10/
CATEGORIES:Grief Share
END:VEVENT
BEGIN:VEVENT
DTSTART;TZID=UTC:20260303T130000
DTEND;TZID=UTC:20260303T150000
DTSTAMP:20260422T061622
CREATED:20260111T162356Z
LAST-MODIFIED:20260111T162356Z
UID:10005734-1772542800-1772550000@sonrisefallbrook.com
SUMMARY:Grief Share Support
DESCRIPTION:Grief Share Support Group | Help and encouragement after the death of a loved one. \nJanuary 13 – April 7\nTuesdays 1pm-3pm & 5-6:30pm\nwww.GriefShare.org
URL:https://sonrisefallbrook.com/event/grief-share-support/2026-03-03/
CATEGORIES:Grief Share
END:VEVENT
BEGIN:VEVENT
DTSTART;TZID=UTC:20260224T130000
DTEND;TZID=UTC:20260224T150000
DTSTAMP:20260422T061622
CREATED:20260111T162356Z
LAST-MODIFIED:20260111T162356Z
UID:10005733-1771938000-1771945200@sonrisefallbrook.com
SUMMARY:Grief Share Support
DESCRIPTION:Grief Share Support Group | Help and encouragement after the death of a loved one. \nJanuary 13 – April 7\nTuesdays 1pm-3pm & 5-6:30pm\nwww.GriefShare.org
URL:https://sonrisefallbrook.com/event/grief-share-support/2026-02-24/
CATEGORIES:Grief Share
END:VEVENT
BEGIN:VEVENT
DTSTART;TZID=UTC:20260217T130000
DTEND;TZID=UTC:20260217T150000
DTSTAMP:20260422T061622
CREATED:20260111T162356Z
LAST-MODIFIED:20260111T162356Z
UID:10005732-1771333200-1771340400@sonrisefallbrook.com
SUMMARY:Grief Share Support
DESCRIPTION:Grief Share Support Group | Help and encouragement after the death of a loved one. \nJanuary 13 – April 7\nTuesdays 1pm-3pm & 5-6:30pm\nwww.GriefShare.org
URL:https://sonrisefallbrook.com/event/grief-share-support/2026-02-17/
CATEGORIES:Grief Share
END:VEVENT
BEGIN:VEVENT
DTSTART;TZID=UTC:20260210T130000
DTEND;TZID=UTC:20260210T150000
DTSTAMP:20260422T061622
CREATED:20260111T162356Z
LAST-MODIFIED:20260111T162356Z
UID:10005731-1770728400-1770735600@sonrisefallbrook.com
SUMMARY:Grief Share Support
DESCRIPTION:Grief Share Support Group | Help and encouragement after the death of a loved one. \nJanuary 13 – April 7\nTuesdays 1pm-3pm & 5-6:30pm\nwww.GriefShare.org
URL:https://sonrisefallbrook.com/event/grief-share-support/2026-02-10/
CATEGORIES:Grief Share
END:VEVENT
BEGIN:VEVENT
DTSTART;TZID=UTC:20260203T130000
DTEND;TZID=UTC:20260203T150000
DTSTAMP:20260422T061622
CREATED:20260111T162356Z
LAST-MODIFIED:20260111T162356Z
UID:10005730-1770123600-1770130800@sonrisefallbrook.com
SUMMARY:Grief Share Support
DESCRIPTION:Grief Share Support Group | Help and encouragement after the death of a loved one. \nJanuary 13 – April 7\nTuesdays 1pm-3pm & 5-6:30pm\nwww.GriefShare.org
URL:https://sonrisefallbrook.com/event/grief-share-support/2026-02-03/
CATEGORIES:Grief Share
END:VEVENT
BEGIN:VEVENT
DTSTART;TZID=UTC:20260127T130000
DTEND;TZID=UTC:20260127T150000
DTSTAMP:20260422T061622
CREATED:20260111T162356Z
LAST-MODIFIED:20260111T162356Z
UID:10005729-1769518800-1769526000@sonrisefallbrook.com
SUMMARY:Grief Share Support
DESCRIPTION:Grief Share Support Group | Help and encouragement after the death of a loved one. \nJanuary 13 – April 7\nTuesdays 1pm-3pm & 5-6:30pm\nwww.GriefShare.org
URL:https://sonrisefallbrook.com/event/grief-share-support/2026-01-27/
CATEGORIES:Grief Share
END:VEVENT
BEGIN:VEVENT
DTSTART;TZID=UTC:20260120T130000
DTEND;TZID=UTC:20260120T150000
DTSTAMP:20260422T061622
CREATED:20260111T162356Z
LAST-MODIFIED:20260111T162356Z
UID:10005728-1768914000-1768921200@sonrisefallbrook.com
SUMMARY:Grief Share Support
DESCRIPTION:Grief Share Support Group | Help and encouragement after the death of a loved one. \nJanuary 13 – April 7\nTuesdays 1pm-3pm & 5-6:30pm\nwww.GriefShare.org
URL:https://sonrisefallbrook.com/event/grief-share-support/2026-01-20/
CATEGORIES:Grief Share
END:VEVENT
BEGIN:VEVENT
DTSTART;TZID=UTC:20260113T170000
DTEND;TZID=UTC:20260113T183000
DTSTAMP:20260422T061622
CREATED:20260111T162356Z
LAST-MODIFIED:20260111T162356Z
UID:10005727-1768323600-1768329000@sonrisefallbrook.com
SUMMARY:Grief Share Support
DESCRIPTION:Grief Share Support Group | Help and encouragement after the death of a loved one. \nJanuary 13 – April 7\nTuesdays 1pm-3pm & 5-6:30pm\nwww.GriefShare.org
URL:https://sonrisefallbrook.com/event/grief-share-support/2026-01-13/2/
CATEGORIES:Grief Share
END:VEVENT
BEGIN:VEVENT
DTSTART;TZID=UTC:20260113T130000
DTEND;TZID=UTC:20260113T150000
DTSTAMP:20260422T061622
CREATED:20260111T162356Z
LAST-MODIFIED:20260111T162356Z
UID:10005726-1768309200-1768316400@sonrisefallbrook.com
SUMMARY:Grief Share Support
DESCRIPTION:Grief Share Support Group | Help and encouragement after the death of a loved one. \nJanuary 13 – April 7\nTuesdays 1pm-3pm & 5-6:30pm\nwww.GriefShare.org
URL:https://sonrisefallbrook.com/event/grief-share-support/2026-01-13/1/
CATEGORIES:Grief Share
END:VEVENT
END:VCALENDAR