BEGIN:VCALENDAR
VERSION:2.0
PRODID:-//SonRise Christian Fellowship - ECPv6.15.20//NONSGML v1.0//EN
CALSCALE:GREGORIAN
METHOD:PUBLISH
X-WR-CALNAME:SonRise Christian Fellowship
X-ORIGINAL-URL:https://sonrisefallbrook.com
X-WR-CALDESC:Events for SonRise Christian Fellowship
REFRESH-INTERVAL;VALUE=DURATION:PT1H
X-Robots-Tag:noindex
X-PUBLISHED-TTL:PT1H
BEGIN:VTIMEZONE
TZID:UTC
BEGIN:STANDARD
TZOFFSETFROM:+0000
TZOFFSETTO:+0000
TZNAME:UTC
DTSTART:20240101T000000
END:STANDARD
END:VTIMEZONE
BEGIN:VEVENT
DTSTART;TZID=UTC:20251019T103000
DTEND;TZID=UTC:20251019T130000
DTSTAMP:20260421T164710
CREATED:20251015T235935Z
LAST-MODIFIED:20251015T235935Z
UID:10001533-1760869800-1760878800@sonrisefallbrook.com
SUMMARY:Operation Christmas Child Packing Party
DESCRIPTION:Operation Christmas Child Packing Party after church this Sunday\, October 19
URL:https://sonrisefallbrook.com/event/operation-christmas-child-packing-party/
LOCATION:CAC\, 463 S Stage Coach Ln.\, Fallbrook\, CA\, 92028\, United States
CATEGORIES:Sunday
END:VEVENT
END:VCALENDAR