BEGIN:VCALENDAR
VERSION:2.0
PRODID:-//SonRise Christian Fellowship - ECPv6.15.20//NONSGML v1.0//EN
CALSCALE:GREGORIAN
METHOD:PUBLISH
X-ORIGINAL-URL:https://sonrisefallbrook.com
X-WR-CALDESC:Events for SonRise Christian Fellowship
REFRESH-INTERVAL;VALUE=DURATION:PT1H
X-Robots-Tag:noindex
X-PUBLISHED-TTL:PT1H
BEGIN:VTIMEZONE
TZID:UTC
BEGIN:STANDARD
TZOFFSETFROM:+0000
TZOFFSETTO:+0000
TZNAME:UTC
DTSTART:20290101T000000
END:STANDARD
END:VTIMEZONE
BEGIN:VTIMEZONE
TZID:America/Los_Angeles
BEGIN:DAYLIGHT
TZOFFSETFROM:-0800
TZOFFSETTO:-0700
TZNAME:PDT
DTSTART:20290311T100000
END:DAYLIGHT
BEGIN:STANDARD
TZOFFSETFROM:-0700
TZOFFSETTO:-0800
TZNAME:PST
DTSTART:20291104T090000
END:STANDARD
BEGIN:DAYLIGHT
TZOFFSETFROM:-0800
TZOFFSETTO:-0700
TZNAME:PDT
DTSTART:20300310T100000
END:DAYLIGHT
BEGIN:STANDARD
TZOFFSETFROM:-0700
TZOFFSETTO:-0800
TZNAME:PST
DTSTART:20301103T090000
END:STANDARD
BEGIN:DAYLIGHT
TZOFFSETFROM:-0800
TZOFFSETTO:-0700
TZNAME:PDT
DTSTART:20310309T100000
END:DAYLIGHT
BEGIN:STANDARD
TZOFFSETFROM:-0700
TZOFFSETTO:-0800
TZNAME:PST
DTSTART:20311102T090000
END:STANDARD
END:VTIMEZONE
BEGIN:VEVENT
DTSTART;TZID=UTC:20300926T091500
DTEND;TZID=UTC:20300926T091500
DTSTAMP:20260420T080122
CREATED:20250403T152242Z
LAST-MODIFIED:20260103T171225Z
UID:10004380-1916644500-1916644500@sonrisefallbrook.com
SUMMARY:Life Group (Women\, WOW)
DESCRIPTION:
URL:https://sonrisefallbrook.com/event/life-group-women-wow-39/2030-09-26/
END:VEVENT
BEGIN:VEVENT
DTSTART;TZID=America/Los_Angeles:20300926T093000
DTEND;TZID=America/Los_Angeles:20300926T113000
DTSTAMP:20260420T080122
CREATED:20250808T004919Z
LAST-MODIFIED:20260110T163648Z
UID:10005688-1916645400-1916652600@sonrisefallbrook.com
SUMMARY:Women of the Word (WOW)
DESCRIPTION:Women of the Word – WOW\n\nEvery Thursday in the Chapel at SonRise at 9:30 from Jan. 15 to Apr. 30 (except Apr. 2)\n marthagarcia6859@gmail.com
URL:https://sonrisefallbrook.com/event/women-of-the-word-wow/2030-09-26/
LOCATION:Chapel at SonRise
CATEGORIES:Women of the Word (WOW)
END:VEVENT
BEGIN:VEVENT
DTSTART;TZID=UTC:20300926T160000
DTEND;TZID=UTC:20300926T160000
DTSTAMP:20260420T080122
CREATED:20250403T152242Z
LAST-MODIFIED:20260103T171159Z
UID:10004118-1916668800-1916668800@sonrisefallbrook.com
SUMMARY:SHINE (Youth and Children)
DESCRIPTION:
URL:https://sonrisefallbrook.com/event/shine-youth-and-children-38/2030-09-26/
END:VEVENT
BEGIN:VEVENT
DTSTART;VALUE=DATE:20300928
DTEND;VALUE=DATE:20300929
DTSTAMP:20260420T080122
CREATED:20250704T231350Z
LAST-MODIFIED:20260103T171055Z
UID:10003857-1916784000-1916870399@sonrisefallbrook.com
SUMMARY:Life Group (Men) w/ Pastor Greg Coppock
DESCRIPTION:greg@sonrisefallbrook.com
URL:https://sonrisefallbrook.com/event/life-group-men-w-pastor-greg-coppock-43/2030-09-28/
LOCATION:Fireside Room
END:VEVENT
BEGIN:VEVENT
DTSTART;VALUE=DATE:20300929
DTEND;VALUE=DATE:20300930
DTSTAMP:20260420T080122
CREATED:20250703T230338Z
LAST-MODIFIED:20260103T171028Z
UID:10003596-1916870400-1916956799@sonrisefallbrook.com
SUMMARY:Service in the Sanctuary
DESCRIPTION:
URL:https://sonrisefallbrook.com/event/service-in-the-sanctuary-43/2030-09-29/
END:VEVENT
BEGIN:VEVENT
DTSTART;VALUE=DATE:20300929
DTEND;VALUE=DATE:20300930
DTSTAMP:20260420T080122
CREATED:20250703T230338Z
LAST-MODIFIED:20260103T170929Z
UID:10003074-1916870400-1916956799@sonrisefallbrook.com
SUMMARY:Life Group w/ Pastor Banning Donuts and Discipleship
DESCRIPTION:banning@sonrisefallbrook.com
URL:https://sonrisefallbrook.com/event/life-group-w-pastor-banning-donuts-and-discipleship-43/2030-09-29/
LOCATION:Fireside Room after Church Service
END:VEVENT
BEGIN:VEVENT
DTSTART;VALUE=DATE:20300929
DTEND;VALUE=DATE:20300930
DTSTAMP:20260420T080122
CREATED:20250703T230338Z
LAST-MODIFIED:20260103T170958Z
UID:10003335-1916870400-1916956799@sonrisefallbrook.com
SUMMARY:SERVICES ONLINE!
DESCRIPTION:
URL:https://sonrisefallbrook.com/event/services-online-43/2030-09-29/
END:VEVENT
BEGIN:VEVENT
DTSTART;VALUE=DATE:20300930
DTEND;VALUE=DATE:20301001
DTSTAMP:20260420T080122
CREATED:20250704T231350Z
LAST-MODIFIED:20260103T170903Z
UID:10002813-1916956800-1917043199@sonrisefallbrook.com
SUMMARY:Life Group (Men) w/ Tom Dumont BSF
DESCRIPTION:tvdumont@sbcglobal.net
URL:https://sonrisefallbrook.com/event/life-group-men-w-tom-dumont-bsf-43/2030-09-30/
LOCATION:Fireside Room at SonRise
END:VEVENT
BEGIN:VEVENT
DTSTART;VALUE=DATE:20301002
DTEND;VALUE=DATE:20301003
DTSTAMP:20260420T080122
CREATED:20250704T231351Z
LAST-MODIFIED:20260103T170832Z
UID:10002552-1917129600-1917215999@sonrisefallbrook.com
SUMMARY:Life Group (Men) @ Maurer Home
DESCRIPTION:jerrymaurer@gmail.com
URL:https://sonrisefallbrook.com/event/life-group-men-maurer-home-44/2030-10-02/
LOCATION:Maurer Home
END:VEVENT
BEGIN:VEVENT
DTSTART;VALUE=DATE:20301002
DTEND;VALUE=DATE:20301003
DTSTAMP:20260420T080122
CREATED:20250706T232941Z
LAST-MODIFIED:20260103T170801Z
UID:10002291-1917129600-1917215999@sonrisefallbrook.com
SUMMARY:Life Group (Women) w/ Art Blodgett
DESCRIPTION:artblodgett@yahoo.com
URL:https://sonrisefallbrook.com/event/life-group-women-w-art-blodgett-45/2030-10-02/
LOCATION:Wilson Center at SonRise
END:VEVENT
BEGIN:VEVENT
DTSTART;VALUE=DATE:20301002
DTEND;VALUE=DATE:20301003
DTSTAMP:20260420T080122
CREATED:20250707T234554Z
LAST-MODIFIED:20260103T170301Z
UID:10002030-1917129600-1917215999@sonrisefallbrook.com
SUMMARY:Life Group (Men's Zoom) w/ Tom Dumont
DESCRIPTION:tvdumont@sbcglobal.net
URL:https://sonrisefallbrook.com/event/life-group-mens-zoom-w-tom-dumont-44/2030-10-02/
LOCATION:Zoom
END:VEVENT
BEGIN:VEVENT
DTSTART;TZID=UTC:20301002T070000
DTEND;TZID=UTC:20301002T070000
DTSTAMP:20260420T080122
CREATED:20250403T152227Z
LAST-MODIFIED:20260103T171508Z
UID:10005429-1917154800-1917154800@sonrisefallbrook.com
SUMMARY:Life Group (Men's Zoom) w/ Tom Dumont
DESCRIPTION:
URL:https://sonrisefallbrook.com/event/life-group-mens-zoom-w-tom-dumont-39/2030-10-02/
END:VEVENT
BEGIN:VEVENT
DTSTART;TZID=UTC:20301002T090000
DTEND;TZID=UTC:20301002T090000
DTSTAMP:20260420T080122
CREATED:20250403T152227Z
LAST-MODIFIED:20260103T171412Z
UID:10005167-1917162000-1917162000@sonrisefallbrook.com
SUMMARY:Life Group (Women) w/ Art Blodgett
DESCRIPTION:
URL:https://sonrisefallbrook.com/event/life-group-women-w-art-blodgett-39/2030-10-02/
END:VEVENT
BEGIN:VEVENT
DTSTART;TZID=UTC:20301002T090000
DTEND;TZID=UTC:20301002T101500
DTSTAMP:20260420T080122
CREATED:20260303T193115Z
LAST-MODIFIED:20260303T213041Z
UID:10006031-1917162000-1917166500@sonrisefallbrook.com
SUMMARY:Pastor Jerome's Life Group
DESCRIPTION:Pastor Jerome’s Life Group\nWednesday’s @9am | Fireside Room
URL:https://sonrisefallbrook.com/event/pastor-jeromes-life-group/2030-10-02/
LOCATION:Fireside Room
END:VEVENT
BEGIN:VEVENT
DTSTART;TZID=UTC:20301002T190000
DTEND;TZID=UTC:20301002T190000
DTSTAMP:20260420T080123
CREATED:20250403T152242Z
LAST-MODIFIED:20260103T171332Z
UID:10004905-1917198000-1917198000@sonrisefallbrook.com
SUMMARY:Life Group (Men) @ Maurer Home
DESCRIPTION:
URL:https://sonrisefallbrook.com/event/life-group-men-maurer-home-39/2030-10-02/
END:VEVENT
BEGIN:VEVENT
DTSTART;VALUE=DATE:20301003
DTEND;VALUE=DATE:20301004
DTSTAMP:20260420T080123
CREATED:20250701T222916Z
LAST-MODIFIED:20260103T171253Z
UID:10004643-1917216000-1917302399@sonrisefallbrook.com
SUMMARY:Life Group (Women)
DESCRIPTION:melindamadden@gmail.com
URL:https://sonrisefallbrook.com/event/life-group-women-20/2030-10-03/
LOCATION:Chapel at SonRise
END:VEVENT
BEGIN:VEVENT
DTSTART;TZID=UTC:20301003T091500
DTEND;TZID=UTC:20301003T091500
DTSTAMP:20260420T080123
CREATED:20250403T152242Z
LAST-MODIFIED:20260103T171225Z
UID:10004381-1917249300-1917249300@sonrisefallbrook.com
SUMMARY:Life Group (Women\, WOW)
DESCRIPTION:
URL:https://sonrisefallbrook.com/event/life-group-women-wow-39/2030-10-03/
END:VEVENT
BEGIN:VEVENT
DTSTART;TZID=America/Los_Angeles:20301003T093000
DTEND;TZID=America/Los_Angeles:20301003T113000
DTSTAMP:20260420T080123
CREATED:20250808T004919Z
LAST-MODIFIED:20260110T163648Z
UID:10005689-1917250200-1917257400@sonrisefallbrook.com
SUMMARY:Women of the Word (WOW)
DESCRIPTION:Women of the Word – WOW\n\nEvery Thursday in the Chapel at SonRise at 9:30 from Jan. 15 to Apr. 30 (except Apr. 2)\n marthagarcia6859@gmail.com
URL:https://sonrisefallbrook.com/event/women-of-the-word-wow/2030-10-03/
LOCATION:Chapel at SonRise
CATEGORIES:Women of the Word (WOW)
END:VEVENT
BEGIN:VEVENT
DTSTART;TZID=UTC:20301003T160000
DTEND;TZID=UTC:20301003T160000
DTSTAMP:20260420T080123
CREATED:20250403T152242Z
LAST-MODIFIED:20260103T171159Z
UID:10004119-1917273600-1917273600@sonrisefallbrook.com
SUMMARY:SHINE (Youth and Children)
DESCRIPTION:
URL:https://sonrisefallbrook.com/event/shine-youth-and-children-38/2030-10-03/
END:VEVENT
BEGIN:VEVENT
DTSTART;VALUE=DATE:20301005
DTEND;VALUE=DATE:20301006
DTSTAMP:20260420T080123
CREATED:20250704T231350Z
LAST-MODIFIED:20260103T171055Z
UID:10003858-1917388800-1917475199@sonrisefallbrook.com
SUMMARY:Life Group (Men) w/ Pastor Greg Coppock
DESCRIPTION:greg@sonrisefallbrook.com
URL:https://sonrisefallbrook.com/event/life-group-men-w-pastor-greg-coppock-43/2030-10-05/
LOCATION:Fireside Room
END:VEVENT
BEGIN:VEVENT
DTSTART;VALUE=DATE:20301006
DTEND;VALUE=DATE:20301007
DTSTAMP:20260420T080123
CREATED:20250703T230338Z
LAST-MODIFIED:20260103T171028Z
UID:10003597-1917475200-1917561599@sonrisefallbrook.com
SUMMARY:Service in the Sanctuary
DESCRIPTION:
URL:https://sonrisefallbrook.com/event/service-in-the-sanctuary-43/2030-10-06/
END:VEVENT
BEGIN:VEVENT
DTSTART;VALUE=DATE:20301006
DTEND;VALUE=DATE:20301007
DTSTAMP:20260420T080123
CREATED:20250703T230338Z
LAST-MODIFIED:20260103T170929Z
UID:10003075-1917475200-1917561599@sonrisefallbrook.com
SUMMARY:Life Group w/ Pastor Banning Donuts and Discipleship
DESCRIPTION:banning@sonrisefallbrook.com
URL:https://sonrisefallbrook.com/event/life-group-w-pastor-banning-donuts-and-discipleship-43/2030-10-06/
LOCATION:Fireside Room after Church Service
END:VEVENT
BEGIN:VEVENT
DTSTART;VALUE=DATE:20301006
DTEND;VALUE=DATE:20301007
DTSTAMP:20260420T080123
CREATED:20250703T230338Z
LAST-MODIFIED:20260103T170958Z
UID:10003336-1917475200-1917561599@sonrisefallbrook.com
SUMMARY:SERVICES ONLINE!
DESCRIPTION:
URL:https://sonrisefallbrook.com/event/services-online-43/2030-10-06/
END:VEVENT
BEGIN:VEVENT
DTSTART;VALUE=DATE:20301007
DTEND;VALUE=DATE:20301008
DTSTAMP:20260420T080123
CREATED:20250704T231350Z
LAST-MODIFIED:20260103T170903Z
UID:10002814-1917561600-1917647999@sonrisefallbrook.com
SUMMARY:Life Group (Men) w/ Tom Dumont BSF
DESCRIPTION:tvdumont@sbcglobal.net
URL:https://sonrisefallbrook.com/event/life-group-men-w-tom-dumont-bsf-43/2030-10-07/
LOCATION:Fireside Room at SonRise
END:VEVENT
BEGIN:VEVENT
DTSTART;VALUE=DATE:20301009
DTEND;VALUE=DATE:20301010
DTSTAMP:20260420T080123
CREATED:20250704T231351Z
LAST-MODIFIED:20260103T170832Z
UID:10002553-1917734400-1917820799@sonrisefallbrook.com
SUMMARY:Life Group (Men) @ Maurer Home
DESCRIPTION:jerrymaurer@gmail.com
URL:https://sonrisefallbrook.com/event/life-group-men-maurer-home-44/2030-10-09/
LOCATION:Maurer Home
END:VEVENT
BEGIN:VEVENT
DTSTART;VALUE=DATE:20301009
DTEND;VALUE=DATE:20301010
DTSTAMP:20260420T080123
CREATED:20250706T232941Z
LAST-MODIFIED:20260103T170801Z
UID:10002292-1917734400-1917820799@sonrisefallbrook.com
SUMMARY:Life Group (Women) w/ Art Blodgett
DESCRIPTION:artblodgett@yahoo.com
URL:https://sonrisefallbrook.com/event/life-group-women-w-art-blodgett-45/2030-10-09/
LOCATION:Wilson Center at SonRise
END:VEVENT
BEGIN:VEVENT
DTSTART;VALUE=DATE:20301009
DTEND;VALUE=DATE:20301010
DTSTAMP:20260420T080123
CREATED:20250707T234554Z
LAST-MODIFIED:20260103T170301Z
UID:10002031-1917734400-1917820799@sonrisefallbrook.com
SUMMARY:Life Group (Men's Zoom) w/ Tom Dumont
DESCRIPTION:tvdumont@sbcglobal.net
URL:https://sonrisefallbrook.com/event/life-group-mens-zoom-w-tom-dumont-44/2030-10-09/
LOCATION:Zoom
END:VEVENT
BEGIN:VEVENT
DTSTART;TZID=UTC:20301009T070000
DTEND;TZID=UTC:20301009T070000
DTSTAMP:20260420T080123
CREATED:20250403T152227Z
LAST-MODIFIED:20260103T171508Z
UID:10005430-1917759600-1917759600@sonrisefallbrook.com
SUMMARY:Life Group (Men's Zoom) w/ Tom Dumont
DESCRIPTION:
URL:https://sonrisefallbrook.com/event/life-group-mens-zoom-w-tom-dumont-39/2030-10-09/
END:VEVENT
BEGIN:VEVENT
DTSTART;TZID=UTC:20301009T090000
DTEND;TZID=UTC:20301009T090000
DTSTAMP:20260420T080123
CREATED:20250403T152227Z
LAST-MODIFIED:20260103T171412Z
UID:10005168-1917766800-1917766800@sonrisefallbrook.com
SUMMARY:Life Group (Women) w/ Art Blodgett
DESCRIPTION:
URL:https://sonrisefallbrook.com/event/life-group-women-w-art-blodgett-39/2030-10-09/
END:VEVENT
BEGIN:VEVENT
DTSTART;TZID=UTC:20301009T090000
DTEND;TZID=UTC:20301009T101500
DTSTAMP:20260420T080123
CREATED:20260303T193115Z
LAST-MODIFIED:20260303T213041Z
UID:10006032-1917766800-1917771300@sonrisefallbrook.com
SUMMARY:Pastor Jerome's Life Group
DESCRIPTION:Pastor Jerome’s Life Group\nWednesday’s @9am | Fireside Room
URL:https://sonrisefallbrook.com/event/pastor-jeromes-life-group/2030-10-09/
LOCATION:Fireside Room
END:VEVENT
END:VCALENDAR