BEGIN:VCALENDAR
VERSION:2.0
PRODID:-//SonRise Christian Fellowship - ECPv6.15.20//NONSGML v1.0//EN
CALSCALE:GREGORIAN
METHOD:PUBLISH
X-WR-CALNAME:SonRise Christian Fellowship
X-ORIGINAL-URL:https://sonrisefallbrook.com
X-WR-CALDESC:Events for SonRise Christian Fellowship
REFRESH-INTERVAL;VALUE=DURATION:PT1H
X-Robots-Tag:noindex
X-PUBLISHED-TTL:PT1H
BEGIN:VTIMEZONE
TZID:America/Los_Angeles
BEGIN:DAYLIGHT
TZOFFSETFROM:-0800
TZOFFSETTO:-0700
TZNAME:PDT
DTSTART:20290311T100000
END:DAYLIGHT
BEGIN:STANDARD
TZOFFSETFROM:-0700
TZOFFSETTO:-0800
TZNAME:PST
DTSTART:20291104T090000
END:STANDARD
BEGIN:DAYLIGHT
TZOFFSETFROM:-0800
TZOFFSETTO:-0700
TZNAME:PDT
DTSTART:20300310T100000
END:DAYLIGHT
BEGIN:STANDARD
TZOFFSETFROM:-0700
TZOFFSETTO:-0800
TZNAME:PST
DTSTART:20301103T090000
END:STANDARD
BEGIN:DAYLIGHT
TZOFFSETFROM:-0800
TZOFFSETTO:-0700
TZNAME:PDT
DTSTART:20310309T100000
END:DAYLIGHT
BEGIN:STANDARD
TZOFFSETFROM:-0700
TZOFFSETTO:-0800
TZNAME:PST
DTSTART:20311102T090000
END:STANDARD
END:VTIMEZONE
BEGIN:VTIMEZONE
TZID:UTC
BEGIN:STANDARD
TZOFFSETFROM:+0000
TZOFFSETTO:+0000
TZNAME:UTC
DTSTART:20290101T000000
END:STANDARD
END:VTIMEZONE
BEGIN:VEVENT
DTSTART;VALUE=DATE:20301215
DTEND;VALUE=DATE:20301216
DTSTAMP:20260423T094808
CREATED:20250703T230338Z
LAST-MODIFIED:20260103T170958Z
UID:10003346-1923523200-1923609599@sonrisefallbrook.com
SUMMARY:SERVICES ONLINE!
DESCRIPTION:
URL:https://sonrisefallbrook.com/event/services-online-43/2030-12-15/
END:VEVENT
BEGIN:VEVENT
DTSTART;VALUE=DATE:20301215
DTEND;VALUE=DATE:20301216
DTSTAMP:20260423T094808
CREATED:20250703T230338Z
LAST-MODIFIED:20260103T171028Z
UID:10003607-1923523200-1923609599@sonrisefallbrook.com
SUMMARY:Service in the Sanctuary
DESCRIPTION:
URL:https://sonrisefallbrook.com/event/service-in-the-sanctuary-43/2030-12-15/
END:VEVENT
BEGIN:VEVENT
DTSTART;VALUE=DATE:20301215
DTEND;VALUE=DATE:20301216
DTSTAMP:20260423T094808
CREATED:20250703T230338Z
LAST-MODIFIED:20260103T170929Z
UID:10003085-1923523200-1923609599@sonrisefallbrook.com
SUMMARY:Life Group w/ Pastor Banning Donuts and Discipleship
DESCRIPTION:banning@sonrisefallbrook.com
URL:https://sonrisefallbrook.com/event/life-group-w-pastor-banning-donuts-and-discipleship-43/2030-12-15/
LOCATION:Fireside Room after Church Service
END:VEVENT
BEGIN:VEVENT
DTSTART;VALUE=DATE:20301216
DTEND;VALUE=DATE:20301217
DTSTAMP:20260423T094808
CREATED:20250704T231350Z
LAST-MODIFIED:20260103T170903Z
UID:10002824-1923609600-1923695999@sonrisefallbrook.com
SUMMARY:Life Group (Men) w/ Tom Dumont BSF
DESCRIPTION:tvdumont@sbcglobal.net
URL:https://sonrisefallbrook.com/event/life-group-men-w-tom-dumont-bsf-43/2030-12-16/
LOCATION:Fireside Room at SonRise
END:VEVENT
BEGIN:VEVENT
DTSTART;VALUE=DATE:20301218
DTEND;VALUE=DATE:20301219
DTSTAMP:20260423T094808
CREATED:20250704T231351Z
LAST-MODIFIED:20260103T170832Z
UID:10002563-1923782400-1923868799@sonrisefallbrook.com
SUMMARY:Life Group (Men) @ Maurer Home
DESCRIPTION:jerrymaurer@gmail.com
URL:https://sonrisefallbrook.com/event/life-group-men-maurer-home-44/2030-12-18/
LOCATION:Maurer Home
END:VEVENT
BEGIN:VEVENT
DTSTART;VALUE=DATE:20301218
DTEND;VALUE=DATE:20301219
DTSTAMP:20260423T094808
CREATED:20250706T232941Z
LAST-MODIFIED:20260103T170801Z
UID:10002302-1923782400-1923868799@sonrisefallbrook.com
SUMMARY:Life Group (Women) w/ Art Blodgett
DESCRIPTION:artblodgett@yahoo.com
URL:https://sonrisefallbrook.com/event/life-group-women-w-art-blodgett-45/2030-12-18/
LOCATION:Wilson Center at SonRise
END:VEVENT
BEGIN:VEVENT
DTSTART;VALUE=DATE:20301218
DTEND;VALUE=DATE:20301219
DTSTAMP:20260423T094808
CREATED:20250707T234554Z
LAST-MODIFIED:20260103T170301Z
UID:10002041-1923782400-1923868799@sonrisefallbrook.com
SUMMARY:Life Group (Men's Zoom) w/ Tom Dumont
DESCRIPTION:tvdumont@sbcglobal.net
URL:https://sonrisefallbrook.com/event/life-group-mens-zoom-w-tom-dumont-44/2030-12-18/
LOCATION:Zoom
END:VEVENT
BEGIN:VEVENT
DTSTART;TZID=UTC:20301218T070000
DTEND;TZID=UTC:20301218T070000
DTSTAMP:20260423T094808
CREATED:20250403T152227Z
LAST-MODIFIED:20260103T171508Z
UID:10005440-1923807600-1923807600@sonrisefallbrook.com
SUMMARY:Life Group (Men's Zoom) w/ Tom Dumont
DESCRIPTION:
URL:https://sonrisefallbrook.com/event/life-group-mens-zoom-w-tom-dumont-39/2030-12-18/
END:VEVENT
BEGIN:VEVENT
DTSTART;TZID=UTC:20301218T090000
DTEND;TZID=UTC:20301218T090000
DTSTAMP:20260423T094808
CREATED:20250403T152227Z
LAST-MODIFIED:20260103T171412Z
UID:10005178-1923814800-1923814800@sonrisefallbrook.com
SUMMARY:Life Group (Women) w/ Art Blodgett
DESCRIPTION:
URL:https://sonrisefallbrook.com/event/life-group-women-w-art-blodgett-39/2030-12-18/
END:VEVENT
BEGIN:VEVENT
DTSTART;TZID=UTC:20301218T090000
DTEND;TZID=UTC:20301218T101500
DTSTAMP:20260423T094808
CREATED:20260303T193115Z
LAST-MODIFIED:20260303T213041Z
UID:10006042-1923814800-1923819300@sonrisefallbrook.com
SUMMARY:Pastor Jerome's Life Group
DESCRIPTION:Pastor Jerome’s Life Group\nWednesday’s @9am | Fireside Room
URL:https://sonrisefallbrook.com/event/pastor-jeromes-life-group/2030-12-18/
LOCATION:Fireside Room
END:VEVENT
BEGIN:VEVENT
DTSTART;TZID=UTC:20301218T190000
DTEND;TZID=UTC:20301218T190000
DTSTAMP:20260423T094808
CREATED:20250403T152242Z
LAST-MODIFIED:20260103T171332Z
UID:10004916-1923850800-1923850800@sonrisefallbrook.com
SUMMARY:Life Group (Men) @ Maurer Home
DESCRIPTION:
URL:https://sonrisefallbrook.com/event/life-group-men-maurer-home-39/2030-12-18/
END:VEVENT
BEGIN:VEVENT
DTSTART;VALUE=DATE:20301219
DTEND;VALUE=DATE:20301220
DTSTAMP:20260423T094808
CREATED:20250701T222916Z
LAST-MODIFIED:20260103T171253Z
UID:10004654-1923868800-1923955199@sonrisefallbrook.com
SUMMARY:Life Group (Women)
DESCRIPTION:melindamadden@gmail.com
URL:https://sonrisefallbrook.com/event/life-group-women-20/2030-12-19/
LOCATION:Chapel at SonRise
END:VEVENT
BEGIN:VEVENT
DTSTART;TZID=UTC:20301219T091500
DTEND;TZID=UTC:20301219T091500
DTSTAMP:20260423T094808
CREATED:20250403T152242Z
LAST-MODIFIED:20260103T171225Z
UID:10004392-1923902100-1923902100@sonrisefallbrook.com
SUMMARY:Life Group (Women\, WOW)
DESCRIPTION:
URL:https://sonrisefallbrook.com/event/life-group-women-wow-39/2030-12-19/
END:VEVENT
BEGIN:VEVENT
DTSTART;TZID=America/Los_Angeles:20301219T093000
DTEND;TZID=America/Los_Angeles:20301219T113000
DTSTAMP:20260423T094808
CREATED:20250808T004919Z
LAST-MODIFIED:20260110T163648Z
UID:10005700-1923903000-1923910200@sonrisefallbrook.com
SUMMARY:Women of the Word (WOW)
DESCRIPTION:Women of the Word – WOW\n\nEvery Thursday in the Chapel at SonRise at 9:30 from Jan. 15 to Apr. 30 (except Apr. 2)\n marthagarcia6859@gmail.com
URL:https://sonrisefallbrook.com/event/women-of-the-word-wow/2030-12-19/
LOCATION:Chapel at SonRise
CATEGORIES:Women of the Word (WOW)
END:VEVENT
BEGIN:VEVENT
DTSTART;TZID=UTC:20301219T160000
DTEND;TZID=UTC:20301219T160000
DTSTAMP:20260423T094808
CREATED:20250403T152242Z
LAST-MODIFIED:20260103T171159Z
UID:10004130-1923926400-1923926400@sonrisefallbrook.com
SUMMARY:SHINE (Youth and Children)
DESCRIPTION:
URL:https://sonrisefallbrook.com/event/shine-youth-and-children-38/2030-12-19/
END:VEVENT
BEGIN:VEVENT
DTSTART;VALUE=DATE:20301221
DTEND;VALUE=DATE:20301222
DTSTAMP:20260423T094808
CREATED:20250704T231350Z
LAST-MODIFIED:20260103T171055Z
UID:10003869-1924041600-1924127999@sonrisefallbrook.com
SUMMARY:Life Group (Men) w/ Pastor Greg Coppock
DESCRIPTION:greg@sonrisefallbrook.com
URL:https://sonrisefallbrook.com/event/life-group-men-w-pastor-greg-coppock-43/2030-12-21/
LOCATION:Fireside Room
END:VEVENT
BEGIN:VEVENT
DTSTART;VALUE=DATE:20301222
DTEND;VALUE=DATE:20301223
DTSTAMP:20260423T094808
CREATED:20250703T230338Z
LAST-MODIFIED:20260103T170958Z
UID:10003347-1924128000-1924214399@sonrisefallbrook.com
SUMMARY:SERVICES ONLINE!
DESCRIPTION:
URL:https://sonrisefallbrook.com/event/services-online-43/2030-12-22/
END:VEVENT
BEGIN:VEVENT
DTSTART;VALUE=DATE:20301222
DTEND;VALUE=DATE:20301223
DTSTAMP:20260423T094808
CREATED:20250703T230338Z
LAST-MODIFIED:20260103T171028Z
UID:10003608-1924128000-1924214399@sonrisefallbrook.com
SUMMARY:Service in the Sanctuary
DESCRIPTION:
URL:https://sonrisefallbrook.com/event/service-in-the-sanctuary-43/2030-12-22/
END:VEVENT
BEGIN:VEVENT
DTSTART;VALUE=DATE:20301222
DTEND;VALUE=DATE:20301223
DTSTAMP:20260423T094808
CREATED:20250703T230338Z
LAST-MODIFIED:20260103T170929Z
UID:10003086-1924128000-1924214399@sonrisefallbrook.com
SUMMARY:Life Group w/ Pastor Banning Donuts and Discipleship
DESCRIPTION:banning@sonrisefallbrook.com
URL:https://sonrisefallbrook.com/event/life-group-w-pastor-banning-donuts-and-discipleship-43/2030-12-22/
LOCATION:Fireside Room after Church Service
END:VEVENT
BEGIN:VEVENT
DTSTART;VALUE=DATE:20301223
DTEND;VALUE=DATE:20301224
DTSTAMP:20260423T094808
CREATED:20250704T231350Z
LAST-MODIFIED:20260103T170903Z
UID:10002825-1924214400-1924300799@sonrisefallbrook.com
SUMMARY:Life Group (Men) w/ Tom Dumont BSF
DESCRIPTION:tvdumont@sbcglobal.net
URL:https://sonrisefallbrook.com/event/life-group-men-w-tom-dumont-bsf-43/2030-12-23/
LOCATION:Fireside Room at SonRise
END:VEVENT
BEGIN:VEVENT
DTSTART;VALUE=DATE:20301225
DTEND;VALUE=DATE:20301226
DTSTAMP:20260423T094808
CREATED:20250704T231351Z
LAST-MODIFIED:20260103T170832Z
UID:10002564-1924387200-1924473599@sonrisefallbrook.com
SUMMARY:Life Group (Men) @ Maurer Home
DESCRIPTION:jerrymaurer@gmail.com
URL:https://sonrisefallbrook.com/event/life-group-men-maurer-home-44/2030-12-25/
LOCATION:Maurer Home
END:VEVENT
BEGIN:VEVENT
DTSTART;VALUE=DATE:20301225
DTEND;VALUE=DATE:20301226
DTSTAMP:20260423T094808
CREATED:20250706T232941Z
LAST-MODIFIED:20260103T170801Z
UID:10002303-1924387200-1924473599@sonrisefallbrook.com
SUMMARY:Life Group (Women) w/ Art Blodgett
DESCRIPTION:artblodgett@yahoo.com
URL:https://sonrisefallbrook.com/event/life-group-women-w-art-blodgett-45/2030-12-25/
LOCATION:Wilson Center at SonRise
END:VEVENT
BEGIN:VEVENT
DTSTART;VALUE=DATE:20301225
DTEND;VALUE=DATE:20301226
DTSTAMP:20260423T094808
CREATED:20250707T234554Z
LAST-MODIFIED:20260103T170301Z
UID:10002042-1924387200-1924473599@sonrisefallbrook.com
SUMMARY:Life Group (Men's Zoom) w/ Tom Dumont
DESCRIPTION:tvdumont@sbcglobal.net
URL:https://sonrisefallbrook.com/event/life-group-mens-zoom-w-tom-dumont-44/2030-12-25/
LOCATION:Zoom
END:VEVENT
BEGIN:VEVENT
DTSTART;TZID=UTC:20301225T070000
DTEND;TZID=UTC:20301225T070000
DTSTAMP:20260423T094808
CREATED:20250403T152227Z
LAST-MODIFIED:20260103T171508Z
UID:10005441-1924412400-1924412400@sonrisefallbrook.com
SUMMARY:Life Group (Men's Zoom) w/ Tom Dumont
DESCRIPTION:
URL:https://sonrisefallbrook.com/event/life-group-mens-zoom-w-tom-dumont-39/2030-12-25/
END:VEVENT
BEGIN:VEVENT
DTSTART;TZID=UTC:20301225T090000
DTEND;TZID=UTC:20301225T090000
DTSTAMP:20260423T094808
CREATED:20250403T152227Z
LAST-MODIFIED:20260103T171412Z
UID:10005179-1924419600-1924419600@sonrisefallbrook.com
SUMMARY:Life Group (Women) w/ Art Blodgett
DESCRIPTION:
URL:https://sonrisefallbrook.com/event/life-group-women-w-art-blodgett-39/2030-12-25/
END:VEVENT
BEGIN:VEVENT
DTSTART;TZID=UTC:20301225T090000
DTEND;TZID=UTC:20301225T101500
DTSTAMP:20260423T094808
CREATED:20260303T193115Z
LAST-MODIFIED:20260303T213041Z
UID:10006043-1924419600-1924424100@sonrisefallbrook.com
SUMMARY:Pastor Jerome's Life Group
DESCRIPTION:Pastor Jerome’s Life Group\nWednesday’s @9am | Fireside Room
URL:https://sonrisefallbrook.com/event/pastor-jeromes-life-group/2030-12-25/
LOCATION:Fireside Room
END:VEVENT
BEGIN:VEVENT
DTSTART;TZID=UTC:20301225T190000
DTEND;TZID=UTC:20301225T190000
DTSTAMP:20260423T094808
CREATED:20250403T152242Z
LAST-MODIFIED:20260103T171332Z
UID:10004917-1924455600-1924455600@sonrisefallbrook.com
SUMMARY:Life Group (Men) @ Maurer Home
DESCRIPTION:
URL:https://sonrisefallbrook.com/event/life-group-men-maurer-home-39/2030-12-25/
END:VEVENT
BEGIN:VEVENT
DTSTART;VALUE=DATE:20301226
DTEND;VALUE=DATE:20301227
DTSTAMP:20260423T094808
CREATED:20250701T222916Z
LAST-MODIFIED:20260103T171253Z
UID:10004655-1924473600-1924559999@sonrisefallbrook.com
SUMMARY:Life Group (Women)
DESCRIPTION:melindamadden@gmail.com
URL:https://sonrisefallbrook.com/event/life-group-women-20/2030-12-26/
LOCATION:Chapel at SonRise
END:VEVENT
BEGIN:VEVENT
DTSTART;TZID=UTC:20301226T091500
DTEND;TZID=UTC:20301226T091500
DTSTAMP:20260423T094808
CREATED:20250403T152242Z
LAST-MODIFIED:20260103T171225Z
UID:10004393-1924506900-1924506900@sonrisefallbrook.com
SUMMARY:Life Group (Women\, WOW)
DESCRIPTION:
URL:https://sonrisefallbrook.com/event/life-group-women-wow-39/2030-12-26/
END:VEVENT
BEGIN:VEVENT
DTSTART;TZID=America/Los_Angeles:20301226T093000
DTEND;TZID=America/Los_Angeles:20301226T113000
DTSTAMP:20260423T094808
CREATED:20250808T004919Z
LAST-MODIFIED:20260110T163648Z
UID:10005701-1924507800-1924515000@sonrisefallbrook.com
SUMMARY:Women of the Word (WOW)
DESCRIPTION:Women of the Word – WOW\n\nEvery Thursday in the Chapel at SonRise at 9:30 from Jan. 15 to Apr. 30 (except Apr. 2)\n marthagarcia6859@gmail.com
URL:https://sonrisefallbrook.com/event/women-of-the-word-wow/2030-12-26/
LOCATION:Chapel at SonRise
CATEGORIES:Women of the Word (WOW)
END:VEVENT
END:VCALENDAR