BEGIN:VCALENDAR
VERSION:2.0
PRODID:-//SonRise Christian Fellowship - ECPv6.15.20//NONSGML v1.0//EN
CALSCALE:GREGORIAN
METHOD:PUBLISH
X-ORIGINAL-URL:https://sonrisefallbrook.com
X-WR-CALDESC:Events for SonRise Christian Fellowship
REFRESH-INTERVAL;VALUE=DURATION:PT1H
X-Robots-Tag:noindex
X-PUBLISHED-TTL:PT1H
BEGIN:VTIMEZONE
TZID:America/Los_Angeles
BEGIN:DAYLIGHT
TZOFFSETFROM:-0800
TZOFFSETTO:-0700
TZNAME:PDT
DTSTART:20300310T100000
END:DAYLIGHT
BEGIN:STANDARD
TZOFFSETFROM:-0700
TZOFFSETTO:-0800
TZNAME:PST
DTSTART:20301103T090000
END:STANDARD
BEGIN:DAYLIGHT
TZOFFSETFROM:-0800
TZOFFSETTO:-0700
TZNAME:PDT
DTSTART:20310309T100000
END:DAYLIGHT
BEGIN:STANDARD
TZOFFSETFROM:-0700
TZOFFSETTO:-0800
TZNAME:PST
DTSTART:20311102T090000
END:STANDARD
BEGIN:DAYLIGHT
TZOFFSETFROM:-0800
TZOFFSETTO:-0700
TZNAME:PDT
DTSTART:20320314T100000
END:DAYLIGHT
BEGIN:STANDARD
TZOFFSETFROM:-0700
TZOFFSETTO:-0800
TZNAME:PST
DTSTART:20321107T090000
END:STANDARD
END:VTIMEZONE
BEGIN:VTIMEZONE
TZID:UTC
BEGIN:STANDARD
TZOFFSETFROM:+0000
TZOFFSETTO:+0000
TZNAME:UTC
DTSTART:20300101T000000
END:STANDARD
END:VTIMEZONE
BEGIN:VEVENT
DTSTART;TZID=America/Los_Angeles:20310109T093000
DTEND;TZID=America/Los_Angeles:20310109T113000
DTSTAMP:20260424T001548
CREATED:20250808T004919Z
LAST-MODIFIED:20260110T163648Z
UID:10005703-1925717400-1925724600@sonrisefallbrook.com
SUMMARY:Women of the Word (WOW)
DESCRIPTION:Women of the Word – WOW\n\nEvery Thursday in the Chapel at SonRise at 9:30 from Jan. 15 to Apr. 30 (except Apr. 2)\n marthagarcia6859@gmail.com
URL:https://sonrisefallbrook.com/event/women-of-the-word-wow/2031-01-09/
LOCATION:Chapel at SonRise
CATEGORIES:Women of the Word (WOW)
END:VEVENT
BEGIN:VEVENT
DTSTART;TZID=UTC:20310115T090000
DTEND;TZID=UTC:20310115T101500
DTSTAMP:20260424T001548
CREATED:20260303T193115Z
LAST-MODIFIED:20260303T213041Z
UID:10006046-1926234000-1926238500@sonrisefallbrook.com
SUMMARY:Pastor Jerome's Life Group
DESCRIPTION:Pastor Jerome’s Life Group\nWednesday’s @9am | Fireside Room
URL:https://sonrisefallbrook.com/event/pastor-jeromes-life-group/2031-01-15/
LOCATION:Fireside Room
END:VEVENT
BEGIN:VEVENT
DTSTART;TZID=UTC:20310122T090000
DTEND;TZID=UTC:20310122T101500
DTSTAMP:20260424T001548
CREATED:20260303T193115Z
LAST-MODIFIED:20260303T213041Z
UID:10006047-1926838800-1926843300@sonrisefallbrook.com
SUMMARY:Pastor Jerome's Life Group
DESCRIPTION:Pastor Jerome’s Life Group\nWednesday’s @9am | Fireside Room
URL:https://sonrisefallbrook.com/event/pastor-jeromes-life-group/2031-01-22/
LOCATION:Fireside Room
END:VEVENT
BEGIN:VEVENT
DTSTART;TZID=UTC:20310129T090000
DTEND;TZID=UTC:20310129T101500
DTSTAMP:20260424T001548
CREATED:20260303T193115Z
LAST-MODIFIED:20260303T213041Z
UID:10006048-1927443600-1927448100@sonrisefallbrook.com
SUMMARY:Pastor Jerome's Life Group
DESCRIPTION:Pastor Jerome’s Life Group\nWednesday’s @9am | Fireside Room
URL:https://sonrisefallbrook.com/event/pastor-jeromes-life-group/2031-01-29/
LOCATION:Fireside Room
END:VEVENT
BEGIN:VEVENT
DTSTART;TZID=UTC:20310205T090000
DTEND;TZID=UTC:20310205T101500
DTSTAMP:20260424T001548
CREATED:20260303T193115Z
LAST-MODIFIED:20260303T213041Z
UID:10006049-1928048400-1928052900@sonrisefallbrook.com
SUMMARY:Pastor Jerome's Life Group
DESCRIPTION:Pastor Jerome’s Life Group\nWednesday’s @9am | Fireside Room
URL:https://sonrisefallbrook.com/event/pastor-jeromes-life-group/2031-02-05/
LOCATION:Fireside Room
END:VEVENT
BEGIN:VEVENT
DTSTART;TZID=UTC:20310212T090000
DTEND;TZID=UTC:20310212T101500
DTSTAMP:20260424T001548
CREATED:20260303T193115Z
LAST-MODIFIED:20260303T213041Z
UID:10006050-1928653200-1928657700@sonrisefallbrook.com
SUMMARY:Pastor Jerome's Life Group
DESCRIPTION:Pastor Jerome’s Life Group\nWednesday’s @9am | Fireside Room
URL:https://sonrisefallbrook.com/event/pastor-jeromes-life-group/2031-02-12/
LOCATION:Fireside Room
END:VEVENT
BEGIN:VEVENT
DTSTART;TZID=UTC:20310219T090000
DTEND;TZID=UTC:20310219T101500
DTSTAMP:20260424T001548
CREATED:20260303T193115Z
LAST-MODIFIED:20260303T213041Z
UID:10006051-1929258000-1929262500@sonrisefallbrook.com
SUMMARY:Pastor Jerome's Life Group
DESCRIPTION:Pastor Jerome’s Life Group\nWednesday’s @9am | Fireside Room
URL:https://sonrisefallbrook.com/event/pastor-jeromes-life-group/2031-02-19/
LOCATION:Fireside Room
END:VEVENT
BEGIN:VEVENT
DTSTART;TZID=UTC:20310226T090000
DTEND;TZID=UTC:20310226T101500
DTSTAMP:20260424T001548
CREATED:20260303T193115Z
LAST-MODIFIED:20260303T213041Z
UID:10006052-1929862800-1929867300@sonrisefallbrook.com
SUMMARY:Pastor Jerome's Life Group
DESCRIPTION:Pastor Jerome’s Life Group\nWednesday’s @9am | Fireside Room
URL:https://sonrisefallbrook.com/event/pastor-jeromes-life-group/2031-02-26/
LOCATION:Fireside Room
END:VEVENT
END:VCALENDAR