BEGIN:VCALENDAR
VERSION:2.0
PRODID:-//SonRise Christian Fellowship - ECPv6.15.20//NONSGML v1.0//EN
CALSCALE:GREGORIAN
METHOD:PUBLISH
X-WR-CALNAME:SonRise Christian Fellowship
X-ORIGINAL-URL:https://sonrisefallbrook.com
X-WR-CALDESC:Events for SonRise Christian Fellowship
REFRESH-INTERVAL;VALUE=DURATION:PT1H
X-Robots-Tag:noindex
X-PUBLISHED-TTL:PT1H
BEGIN:VTIMEZONE
TZID:America/Los_Angeles
BEGIN:DAYLIGHT
TZOFFSETFROM:-0800
TZOFFSETTO:-0700
TZNAME:PDT
DTSTART:20290311T100000
END:DAYLIGHT
BEGIN:STANDARD
TZOFFSETFROM:-0700
TZOFFSETTO:-0800
TZNAME:PST
DTSTART:20291104T090000
END:STANDARD
BEGIN:DAYLIGHT
TZOFFSETFROM:-0800
TZOFFSETTO:-0700
TZNAME:PDT
DTSTART:20300310T100000
END:DAYLIGHT
BEGIN:STANDARD
TZOFFSETFROM:-0700
TZOFFSETTO:-0800
TZNAME:PST
DTSTART:20301103T090000
END:STANDARD
BEGIN:DAYLIGHT
TZOFFSETFROM:-0800
TZOFFSETTO:-0700
TZNAME:PDT
DTSTART:20310309T100000
END:DAYLIGHT
BEGIN:STANDARD
TZOFFSETFROM:-0700
TZOFFSETTO:-0800
TZNAME:PST
DTSTART:20311102T090000
END:STANDARD
END:VTIMEZONE
BEGIN:VEVENT
DTSTART;VALUE=DATE:20301202
DTEND;VALUE=DATE:20301203
DTSTAMP:20260421T094109
CREATED:20250704T231350Z
LAST-MODIFIED:20260103T170903Z
UID:10002822-1922400000-1922486399@sonrisefallbrook.com
SUMMARY:Life Group (Men) w/ Tom Dumont BSF
DESCRIPTION:tvdumont@sbcglobal.net
URL:https://sonrisefallbrook.com/event/life-group-men-w-tom-dumont-bsf-43/2030-12-02/
LOCATION:Fireside Room at SonRise
END:VEVENT
BEGIN:VEVENT
DTSTART;VALUE=DATE:20301209
DTEND;VALUE=DATE:20301210
DTSTAMP:20260421T094109
CREATED:20250704T231350Z
LAST-MODIFIED:20260103T170903Z
UID:10002823-1923004800-1923091199@sonrisefallbrook.com
SUMMARY:Life Group (Men) w/ Tom Dumont BSF
DESCRIPTION:tvdumont@sbcglobal.net
URL:https://sonrisefallbrook.com/event/life-group-men-w-tom-dumont-bsf-43/2030-12-09/
LOCATION:Fireside Room at SonRise
END:VEVENT
BEGIN:VEVENT
DTSTART;VALUE=DATE:20301216
DTEND;VALUE=DATE:20301217
DTSTAMP:20260421T094109
CREATED:20250704T231350Z
LAST-MODIFIED:20260103T170903Z
UID:10002824-1923609600-1923695999@sonrisefallbrook.com
SUMMARY:Life Group (Men) w/ Tom Dumont BSF
DESCRIPTION:tvdumont@sbcglobal.net
URL:https://sonrisefallbrook.com/event/life-group-men-w-tom-dumont-bsf-43/2030-12-16/
LOCATION:Fireside Room at SonRise
END:VEVENT
BEGIN:VEVENT
DTSTART;VALUE=DATE:20301223
DTEND;VALUE=DATE:20301224
DTSTAMP:20260421T094109
CREATED:20250704T231350Z
LAST-MODIFIED:20260103T170903Z
UID:10002825-1924214400-1924300799@sonrisefallbrook.com
SUMMARY:Life Group (Men) w/ Tom Dumont BSF
DESCRIPTION:tvdumont@sbcglobal.net
URL:https://sonrisefallbrook.com/event/life-group-men-w-tom-dumont-bsf-43/2030-12-23/
LOCATION:Fireside Room at SonRise
END:VEVENT
BEGIN:VEVENT
DTSTART;VALUE=DATE:20301230
DTEND;VALUE=DATE:20301231
DTSTAMP:20260421T094109
CREATED:20250704T231350Z
LAST-MODIFIED:20260103T170903Z
UID:10002826-1924819200-1924905599@sonrisefallbrook.com
SUMMARY:Life Group (Men) w/ Tom Dumont BSF
DESCRIPTION:tvdumont@sbcglobal.net
URL:https://sonrisefallbrook.com/event/life-group-men-w-tom-dumont-bsf-43/2030-12-30/
LOCATION:Fireside Room at SonRise
END:VEVENT
END:VCALENDAR