BEGIN:VCALENDAR
VERSION:2.0
PRODID:-//SonRise Christian Fellowship - ECPv6.15.20//NONSGML v1.0//EN
CALSCALE:GREGORIAN
METHOD:PUBLISH
X-WR-CALNAME:SonRise Christian Fellowship
X-ORIGINAL-URL:https://sonrisefallbrook.com
X-WR-CALDESC:Events for SonRise Christian Fellowship
REFRESH-INTERVAL;VALUE=DURATION:PT1H
X-Robots-Tag:noindex
X-PUBLISHED-TTL:PT1H
BEGIN:VTIMEZONE
TZID:America/Los_Angeles
BEGIN:DAYLIGHT
TZOFFSETFROM:-0800
TZOFFSETTO:-0700
TZNAME:PDT
DTSTART:20250309T100000
END:DAYLIGHT
BEGIN:STANDARD
TZOFFSETFROM:-0700
TZOFFSETTO:-0800
TZNAME:PST
DTSTART:20251102T090000
END:STANDARD
BEGIN:DAYLIGHT
TZOFFSETFROM:-0800
TZOFFSETTO:-0700
TZNAME:PDT
DTSTART:20260308T100000
END:DAYLIGHT
BEGIN:STANDARD
TZOFFSETFROM:-0700
TZOFFSETTO:-0800
TZNAME:PST
DTSTART:20261101T090000
END:STANDARD
BEGIN:DAYLIGHT
TZOFFSETFROM:-0800
TZOFFSETTO:-0700
TZNAME:PDT
DTSTART:20270314T100000
END:DAYLIGHT
BEGIN:STANDARD
TZOFFSETFROM:-0700
TZOFFSETTO:-0800
TZNAME:PST
DTSTART:20271107T090000
END:STANDARD
BEGIN:DAYLIGHT
TZOFFSETFROM:-0800
TZOFFSETTO:-0700
TZNAME:PDT
DTSTART:20280312T100000
END:DAYLIGHT
BEGIN:STANDARD
TZOFFSETFROM:-0700
TZOFFSETTO:-0800
TZNAME:PST
DTSTART:20281105T090000
END:STANDARD
END:VTIMEZONE
BEGIN:VTIMEZONE
TZID:UTC
BEGIN:STANDARD
TZOFFSETFROM:+0000
TZOFFSETTO:+0000
TZNAME:UTC
DTSTART:20250101T000000
END:STANDARD
END:VTIMEZONE
BEGIN:VEVENT
DTSTART;VALUE=DATE:20261121
DTEND;VALUE=DATE:20261122
DTSTAMP:20260422T175230
CREATED:20250704T231350Z
LAST-MODIFIED:20260103T171055Z
UID:10003656-1795219200-1795305599@sonrisefallbrook.com
SUMMARY:Life Group (Men) w/ Pastor Greg Coppock
DESCRIPTION:greg@sonrisefallbrook.com
URL:https://sonrisefallbrook.com/event/life-group-men-w-pastor-greg-coppock-43/2026-11-21/
LOCATION:Fireside Room
END:VEVENT
BEGIN:VEVENT
DTSTART;TZID=UTC:20261125T090000
DTEND;TZID=UTC:20261125T101500
DTSTAMP:20260422T175231
CREATED:20260303T193115Z
LAST-MODIFIED:20260303T213041Z
UID:10005830-1795597200-1795601700@sonrisefallbrook.com
SUMMARY:Pastor Jerome's Life Group
DESCRIPTION:Pastor Jerome’s Life Group\nWednesday’s @9am | Fireside Room
URL:https://sonrisefallbrook.com/event/pastor-jeromes-life-group/2026-11-25/
LOCATION:Fireside Room
END:VEVENT
BEGIN:VEVENT
DTSTART;VALUE=DATE:20261128
DTEND;VALUE=DATE:20261129
DTSTAMP:20260422T175231
CREATED:20250704T231350Z
LAST-MODIFIED:20260103T171055Z
UID:10003657-1795824000-1795910399@sonrisefallbrook.com
SUMMARY:Life Group (Men) w/ Pastor Greg Coppock
DESCRIPTION:greg@sonrisefallbrook.com
URL:https://sonrisefallbrook.com/event/life-group-men-w-pastor-greg-coppock-43/2026-11-28/
LOCATION:Fireside Room
END:VEVENT
BEGIN:VEVENT
DTSTART;TZID=UTC:20261202T090000
DTEND;TZID=UTC:20261202T101500
DTSTAMP:20260422T175231
CREATED:20260303T193115Z
LAST-MODIFIED:20260303T213041Z
UID:10005831-1796202000-1796206500@sonrisefallbrook.com
SUMMARY:Pastor Jerome's Life Group
DESCRIPTION:Pastor Jerome’s Life Group\nWednesday’s @9am | Fireside Room
URL:https://sonrisefallbrook.com/event/pastor-jeromes-life-group/2026-12-02/
LOCATION:Fireside Room
END:VEVENT
BEGIN:VEVENT
DTSTART;VALUE=DATE:20261205
DTEND;VALUE=DATE:20261206
DTSTAMP:20260422T175231
CREATED:20250704T231350Z
LAST-MODIFIED:20260103T171055Z
UID:10003658-1796428800-1796515199@sonrisefallbrook.com
SUMMARY:Life Group (Men) w/ Pastor Greg Coppock
DESCRIPTION:greg@sonrisefallbrook.com
URL:https://sonrisefallbrook.com/event/life-group-men-w-pastor-greg-coppock-43/2026-12-05/
LOCATION:Fireside Room
END:VEVENT
BEGIN:VEVENT
DTSTART;TZID=UTC:20261209T090000
DTEND;TZID=UTC:20261209T101500
DTSTAMP:20260422T175231
CREATED:20260303T193115Z
LAST-MODIFIED:20260303T213041Z
UID:10005832-1796806800-1796811300@sonrisefallbrook.com
SUMMARY:Pastor Jerome's Life Group
DESCRIPTION:Pastor Jerome’s Life Group\nWednesday’s @9am | Fireside Room
URL:https://sonrisefallbrook.com/event/pastor-jeromes-life-group/2026-12-09/
LOCATION:Fireside Room
END:VEVENT
BEGIN:VEVENT
DTSTART;VALUE=DATE:20261212
DTEND;VALUE=DATE:20261213
DTSTAMP:20260422T175231
CREATED:20250704T231350Z
LAST-MODIFIED:20260103T171055Z
UID:10003659-1797033600-1797119999@sonrisefallbrook.com
SUMMARY:Life Group (Men) w/ Pastor Greg Coppock
DESCRIPTION:greg@sonrisefallbrook.com
URL:https://sonrisefallbrook.com/event/life-group-men-w-pastor-greg-coppock-43/2026-12-12/
LOCATION:Fireside Room
END:VEVENT
BEGIN:VEVENT
DTSTART;TZID=UTC:20261216T090000
DTEND;TZID=UTC:20261216T101500
DTSTAMP:20260422T175231
CREATED:20260303T193115Z
LAST-MODIFIED:20260303T213041Z
UID:10005833-1797411600-1797416100@sonrisefallbrook.com
SUMMARY:Pastor Jerome's Life Group
DESCRIPTION:Pastor Jerome’s Life Group\nWednesday’s @9am | Fireside Room
URL:https://sonrisefallbrook.com/event/pastor-jeromes-life-group/2026-12-16/
LOCATION:Fireside Room
END:VEVENT
BEGIN:VEVENT
DTSTART;VALUE=DATE:20261219
DTEND;VALUE=DATE:20261220
DTSTAMP:20260422T175231
CREATED:20250704T231350Z
LAST-MODIFIED:20260103T171055Z
UID:10003660-1797638400-1797724799@sonrisefallbrook.com
SUMMARY:Life Group (Men) w/ Pastor Greg Coppock
DESCRIPTION:greg@sonrisefallbrook.com
URL:https://sonrisefallbrook.com/event/life-group-men-w-pastor-greg-coppock-43/2026-12-19/
LOCATION:Fireside Room
END:VEVENT
BEGIN:VEVENT
DTSTART;TZID=UTC:20261223T090000
DTEND;TZID=UTC:20261223T101500
DTSTAMP:20260422T175231
CREATED:20260303T193115Z
LAST-MODIFIED:20260303T213041Z
UID:10005834-1798016400-1798020900@sonrisefallbrook.com
SUMMARY:Pastor Jerome's Life Group
DESCRIPTION:Pastor Jerome’s Life Group\nWednesday’s @9am | Fireside Room
URL:https://sonrisefallbrook.com/event/pastor-jeromes-life-group/2026-12-23/
LOCATION:Fireside Room
END:VEVENT
BEGIN:VEVENT
DTSTART;VALUE=DATE:20261226
DTEND;VALUE=DATE:20261227
DTSTAMP:20260422T175231
CREATED:20250704T231350Z
LAST-MODIFIED:20260103T171055Z
UID:10003661-1798243200-1798329599@sonrisefallbrook.com
SUMMARY:Life Group (Men) w/ Pastor Greg Coppock
DESCRIPTION:greg@sonrisefallbrook.com
URL:https://sonrisefallbrook.com/event/life-group-men-w-pastor-greg-coppock-43/2026-12-26/
LOCATION:Fireside Room
END:VEVENT
BEGIN:VEVENT
DTSTART;TZID=UTC:20261230T090000
DTEND;TZID=UTC:20261230T101500
DTSTAMP:20260422T175231
CREATED:20260303T193115Z
LAST-MODIFIED:20260303T213041Z
UID:10005835-1798621200-1798625700@sonrisefallbrook.com
SUMMARY:Pastor Jerome's Life Group
DESCRIPTION:Pastor Jerome’s Life Group\nWednesday’s @9am | Fireside Room
URL:https://sonrisefallbrook.com/event/pastor-jeromes-life-group/2026-12-30/
LOCATION:Fireside Room
END:VEVENT
BEGIN:VEVENT
DTSTART;VALUE=DATE:20270102
DTEND;VALUE=DATE:20270103
DTSTAMP:20260422T175231
CREATED:20250704T231350Z
LAST-MODIFIED:20260103T171055Z
UID:10003662-1798848000-1798934399@sonrisefallbrook.com
SUMMARY:Life Group (Men) w/ Pastor Greg Coppock
DESCRIPTION:greg@sonrisefallbrook.com
URL:https://sonrisefallbrook.com/event/life-group-men-w-pastor-greg-coppock-43/2027-01-02/
LOCATION:Fireside Room
END:VEVENT
BEGIN:VEVENT
DTSTART;TZID=UTC:20270106T090000
DTEND;TZID=UTC:20270106T101500
DTSTAMP:20260422T175231
CREATED:20260303T193115Z
LAST-MODIFIED:20260303T213041Z
UID:10005836-1799226000-1799230500@sonrisefallbrook.com
SUMMARY:Pastor Jerome's Life Group
DESCRIPTION:Pastor Jerome’s Life Group\nWednesday’s @9am | Fireside Room
URL:https://sonrisefallbrook.com/event/pastor-jeromes-life-group/2027-01-06/
LOCATION:Fireside Room
END:VEVENT
BEGIN:VEVENT
DTSTART;VALUE=DATE:20270109
DTEND;VALUE=DATE:20270110
DTSTAMP:20260422T175231
CREATED:20250704T231350Z
LAST-MODIFIED:20260103T171055Z
UID:10003663-1799452800-1799539199@sonrisefallbrook.com
SUMMARY:Life Group (Men) w/ Pastor Greg Coppock
DESCRIPTION:greg@sonrisefallbrook.com
URL:https://sonrisefallbrook.com/event/life-group-men-w-pastor-greg-coppock-43/2027-01-09/
LOCATION:Fireside Room
END:VEVENT
BEGIN:VEVENT
DTSTART;TZID=UTC:20270113T090000
DTEND;TZID=UTC:20270113T101500
DTSTAMP:20260422T175231
CREATED:20260303T193115Z
LAST-MODIFIED:20260303T213041Z
UID:10005837-1799830800-1799835300@sonrisefallbrook.com
SUMMARY:Pastor Jerome's Life Group
DESCRIPTION:Pastor Jerome’s Life Group\nWednesday’s @9am | Fireside Room
URL:https://sonrisefallbrook.com/event/pastor-jeromes-life-group/2027-01-13/
LOCATION:Fireside Room
END:VEVENT
BEGIN:VEVENT
DTSTART;VALUE=DATE:20270116
DTEND;VALUE=DATE:20270117
DTSTAMP:20260422T175231
CREATED:20250704T231350Z
LAST-MODIFIED:20260103T171055Z
UID:10003664-1800057600-1800143999@sonrisefallbrook.com
SUMMARY:Life Group (Men) w/ Pastor Greg Coppock
DESCRIPTION:greg@sonrisefallbrook.com
URL:https://sonrisefallbrook.com/event/life-group-men-w-pastor-greg-coppock-43/2027-01-16/
LOCATION:Fireside Room
END:VEVENT
BEGIN:VEVENT
DTSTART;TZID=UTC:20270120T090000
DTEND;TZID=UTC:20270120T101500
DTSTAMP:20260422T175231
CREATED:20260303T193115Z
LAST-MODIFIED:20260303T213041Z
UID:10005838-1800435600-1800440100@sonrisefallbrook.com
SUMMARY:Pastor Jerome's Life Group
DESCRIPTION:Pastor Jerome’s Life Group\nWednesday’s @9am | Fireside Room
URL:https://sonrisefallbrook.com/event/pastor-jeromes-life-group/2027-01-20/
LOCATION:Fireside Room
END:VEVENT
BEGIN:VEVENT
DTSTART;VALUE=DATE:20270123
DTEND;VALUE=DATE:20270124
DTSTAMP:20260422T175231
CREATED:20250704T231350Z
LAST-MODIFIED:20260103T171055Z
UID:10003665-1800662400-1800748799@sonrisefallbrook.com
SUMMARY:Life Group (Men) w/ Pastor Greg Coppock
DESCRIPTION:greg@sonrisefallbrook.com
URL:https://sonrisefallbrook.com/event/life-group-men-w-pastor-greg-coppock-43/2027-01-23/
LOCATION:Fireside Room
END:VEVENT
BEGIN:VEVENT
DTSTART;TZID=UTC:20270127T090000
DTEND;TZID=UTC:20270127T101500
DTSTAMP:20260422T175231
CREATED:20260303T193115Z
LAST-MODIFIED:20260303T213041Z
UID:10005839-1801040400-1801044900@sonrisefallbrook.com
SUMMARY:Pastor Jerome's Life Group
DESCRIPTION:Pastor Jerome’s Life Group\nWednesday’s @9am | Fireside Room
URL:https://sonrisefallbrook.com/event/pastor-jeromes-life-group/2027-01-27/
LOCATION:Fireside Room
END:VEVENT
BEGIN:VEVENT
DTSTART;VALUE=DATE:20270130
DTEND;VALUE=DATE:20270131
DTSTAMP:20260422T175231
CREATED:20250704T231350Z
LAST-MODIFIED:20260103T171055Z
UID:10003666-1801267200-1801353599@sonrisefallbrook.com
SUMMARY:Life Group (Men) w/ Pastor Greg Coppock
DESCRIPTION:greg@sonrisefallbrook.com
URL:https://sonrisefallbrook.com/event/life-group-men-w-pastor-greg-coppock-43/2027-01-30/
LOCATION:Fireside Room
END:VEVENT
BEGIN:VEVENT
DTSTART;TZID=UTC:20270203T090000
DTEND;TZID=UTC:20270203T101500
DTSTAMP:20260422T175231
CREATED:20260303T193115Z
LAST-MODIFIED:20260303T213041Z
UID:10005840-1801645200-1801649700@sonrisefallbrook.com
SUMMARY:Pastor Jerome's Life Group
DESCRIPTION:Pastor Jerome’s Life Group\nWednesday’s @9am | Fireside Room
URL:https://sonrisefallbrook.com/event/pastor-jeromes-life-group/2027-02-03/
LOCATION:Fireside Room
END:VEVENT
BEGIN:VEVENT
DTSTART;VALUE=DATE:20270206
DTEND;VALUE=DATE:20270207
DTSTAMP:20260422T175231
CREATED:20250704T231350Z
LAST-MODIFIED:20260103T171055Z
UID:10003667-1801872000-1801958399@sonrisefallbrook.com
SUMMARY:Life Group (Men) w/ Pastor Greg Coppock
DESCRIPTION:greg@sonrisefallbrook.com
URL:https://sonrisefallbrook.com/event/life-group-men-w-pastor-greg-coppock-43/2027-02-06/
LOCATION:Fireside Room
END:VEVENT
BEGIN:VEVENT
DTSTART;TZID=UTC:20270210T090000
DTEND;TZID=UTC:20270210T101500
DTSTAMP:20260422T175231
CREATED:20260303T193115Z
LAST-MODIFIED:20260303T213041Z
UID:10005841-1802250000-1802254500@sonrisefallbrook.com
SUMMARY:Pastor Jerome's Life Group
DESCRIPTION:Pastor Jerome’s Life Group\nWednesday’s @9am | Fireside Room
URL:https://sonrisefallbrook.com/event/pastor-jeromes-life-group/2027-02-10/
LOCATION:Fireside Room
END:VEVENT
BEGIN:VEVENT
DTSTART;VALUE=DATE:20270213
DTEND;VALUE=DATE:20270214
DTSTAMP:20260422T175231
CREATED:20250704T231350Z
LAST-MODIFIED:20260103T171055Z
UID:10003668-1802476800-1802563199@sonrisefallbrook.com
SUMMARY:Life Group (Men) w/ Pastor Greg Coppock
DESCRIPTION:greg@sonrisefallbrook.com
URL:https://sonrisefallbrook.com/event/life-group-men-w-pastor-greg-coppock-43/2027-02-13/
LOCATION:Fireside Room
END:VEVENT
BEGIN:VEVENT
DTSTART;TZID=UTC:20270217T090000
DTEND;TZID=UTC:20270217T101500
DTSTAMP:20260422T175231
CREATED:20260303T193115Z
LAST-MODIFIED:20260303T213041Z
UID:10005842-1802854800-1802859300@sonrisefallbrook.com
SUMMARY:Pastor Jerome's Life Group
DESCRIPTION:Pastor Jerome’s Life Group\nWednesday’s @9am | Fireside Room
URL:https://sonrisefallbrook.com/event/pastor-jeromes-life-group/2027-02-17/
LOCATION:Fireside Room
END:VEVENT
BEGIN:VEVENT
DTSTART;VALUE=DATE:20270220
DTEND;VALUE=DATE:20270221
DTSTAMP:20260422T175231
CREATED:20250704T231350Z
LAST-MODIFIED:20260103T171055Z
UID:10003669-1803081600-1803167999@sonrisefallbrook.com
SUMMARY:Life Group (Men) w/ Pastor Greg Coppock
DESCRIPTION:greg@sonrisefallbrook.com
URL:https://sonrisefallbrook.com/event/life-group-men-w-pastor-greg-coppock-43/2027-02-20/
LOCATION:Fireside Room
END:VEVENT
BEGIN:VEVENT
DTSTART;TZID=UTC:20270224T090000
DTEND;TZID=UTC:20270224T101500
DTSTAMP:20260422T175231
CREATED:20260303T193115Z
LAST-MODIFIED:20260303T213041Z
UID:10005843-1803459600-1803464100@sonrisefallbrook.com
SUMMARY:Pastor Jerome's Life Group
DESCRIPTION:Pastor Jerome’s Life Group\nWednesday’s @9am | Fireside Room
URL:https://sonrisefallbrook.com/event/pastor-jeromes-life-group/2027-02-24/
LOCATION:Fireside Room
END:VEVENT
BEGIN:VEVENT
DTSTART;VALUE=DATE:20270227
DTEND;VALUE=DATE:20270228
DTSTAMP:20260422T175231
CREATED:20250704T231350Z
LAST-MODIFIED:20260103T171055Z
UID:10003670-1803686400-1803772799@sonrisefallbrook.com
SUMMARY:Life Group (Men) w/ Pastor Greg Coppock
DESCRIPTION:greg@sonrisefallbrook.com
URL:https://sonrisefallbrook.com/event/life-group-men-w-pastor-greg-coppock-43/2027-02-27/
LOCATION:Fireside Room
END:VEVENT
BEGIN:VEVENT
DTSTART;TZID=UTC:20270303T090000
DTEND;TZID=UTC:20270303T101500
DTSTAMP:20260422T175231
CREATED:20260303T193115Z
LAST-MODIFIED:20260303T213041Z
UID:10005844-1804064400-1804068900@sonrisefallbrook.com
SUMMARY:Pastor Jerome's Life Group
DESCRIPTION:Pastor Jerome’s Life Group\nWednesday’s @9am | Fireside Room
URL:https://sonrisefallbrook.com/event/pastor-jeromes-life-group/2027-03-03/
LOCATION:Fireside Room
END:VEVENT
END:VCALENDAR