BEGIN:VCALENDAR
VERSION:2.0
PRODID:-//SonRise Christian Fellowship - ECPv6.15.20//NONSGML v1.0//EN
CALSCALE:GREGORIAN
METHOD:PUBLISH
X-WR-CALNAME:SonRise Christian Fellowship
X-ORIGINAL-URL:https://sonrisefallbrook.com
X-WR-CALDESC:Events for SonRise Christian Fellowship
REFRESH-INTERVAL;VALUE=DURATION:PT1H
X-Robots-Tag:noindex
X-PUBLISHED-TTL:PT1H
BEGIN:VTIMEZONE
TZID:America/Los_Angeles
BEGIN:DAYLIGHT
TZOFFSETFROM:-0800
TZOFFSETTO:-0700
TZNAME:PDT
DTSTART:20270314T100000
END:DAYLIGHT
BEGIN:STANDARD
TZOFFSETFROM:-0700
TZOFFSETTO:-0800
TZNAME:PST
DTSTART:20271107T090000
END:STANDARD
BEGIN:DAYLIGHT
TZOFFSETFROM:-0800
TZOFFSETTO:-0700
TZNAME:PDT
DTSTART:20280312T100000
END:DAYLIGHT
BEGIN:STANDARD
TZOFFSETFROM:-0700
TZOFFSETTO:-0800
TZNAME:PST
DTSTART:20281105T090000
END:STANDARD
BEGIN:DAYLIGHT
TZOFFSETFROM:-0800
TZOFFSETTO:-0700
TZNAME:PDT
DTSTART:20290311T100000
END:DAYLIGHT
BEGIN:STANDARD
TZOFFSETFROM:-0700
TZOFFSETTO:-0800
TZNAME:PST
DTSTART:20291104T090000
END:STANDARD
BEGIN:DAYLIGHT
TZOFFSETFROM:-0800
TZOFFSETTO:-0700
TZNAME:PDT
DTSTART:20300310T100000
END:DAYLIGHT
BEGIN:STANDARD
TZOFFSETFROM:-0700
TZOFFSETTO:-0800
TZNAME:PST
DTSTART:20301103T090000
END:STANDARD
END:VTIMEZONE
BEGIN:VEVENT
DTSTART;VALUE=DATE:20281108
DTEND;VALUE=DATE:20281109
DTSTAMP:20260424T002453
CREATED:20250704T231351Z
LAST-MODIFIED:20260103T170832Z
UID:10002453-1857254400-1857340799@sonrisefallbrook.com
SUMMARY:Life Group (Men) @ Maurer Home
DESCRIPTION:jerrymaurer@gmail.com
URL:https://sonrisefallbrook.com/event/life-group-men-maurer-home-44/2028-11-08/
LOCATION:Maurer Home
END:VEVENT
BEGIN:VEVENT
DTSTART;VALUE=DATE:20281115
DTEND;VALUE=DATE:20281116
DTSTAMP:20260424T002453
CREATED:20250704T231351Z
LAST-MODIFIED:20260103T170832Z
UID:10002454-1857859200-1857945599@sonrisefallbrook.com
SUMMARY:Life Group (Men) @ Maurer Home
DESCRIPTION:jerrymaurer@gmail.com
URL:https://sonrisefallbrook.com/event/life-group-men-maurer-home-44/2028-11-15/
LOCATION:Maurer Home
END:VEVENT
BEGIN:VEVENT
DTSTART;VALUE=DATE:20281122
DTEND;VALUE=DATE:20281123
DTSTAMP:20260424T002453
CREATED:20250704T231351Z
LAST-MODIFIED:20260103T170832Z
UID:10002455-1858464000-1858550399@sonrisefallbrook.com
SUMMARY:Life Group (Men) @ Maurer Home
DESCRIPTION:jerrymaurer@gmail.com
URL:https://sonrisefallbrook.com/event/life-group-men-maurer-home-44/2028-11-22/
LOCATION:Maurer Home
END:VEVENT
BEGIN:VEVENT
DTSTART;VALUE=DATE:20281129
DTEND;VALUE=DATE:20281130
DTSTAMP:20260424T002453
CREATED:20250704T231351Z
LAST-MODIFIED:20260103T170832Z
UID:10002456-1859068800-1859155199@sonrisefallbrook.com
SUMMARY:Life Group (Men) @ Maurer Home
DESCRIPTION:jerrymaurer@gmail.com
URL:https://sonrisefallbrook.com/event/life-group-men-maurer-home-44/2028-11-29/
LOCATION:Maurer Home
END:VEVENT
BEGIN:VEVENT
DTSTART;VALUE=DATE:20281206
DTEND;VALUE=DATE:20281207
DTSTAMP:20260424T002453
CREATED:20250704T231351Z
LAST-MODIFIED:20260103T170832Z
UID:10002457-1859673600-1859759999@sonrisefallbrook.com
SUMMARY:Life Group (Men) @ Maurer Home
DESCRIPTION:jerrymaurer@gmail.com
URL:https://sonrisefallbrook.com/event/life-group-men-maurer-home-44/2028-12-06/
LOCATION:Maurer Home
END:VEVENT
BEGIN:VEVENT
DTSTART;VALUE=DATE:20281213
DTEND;VALUE=DATE:20281214
DTSTAMP:20260424T002453
CREATED:20250704T231351Z
LAST-MODIFIED:20260103T170832Z
UID:10002458-1860278400-1860364799@sonrisefallbrook.com
SUMMARY:Life Group (Men) @ Maurer Home
DESCRIPTION:jerrymaurer@gmail.com
URL:https://sonrisefallbrook.com/event/life-group-men-maurer-home-44/2028-12-13/
LOCATION:Maurer Home
END:VEVENT
BEGIN:VEVENT
DTSTART;VALUE=DATE:20281220
DTEND;VALUE=DATE:20281221
DTSTAMP:20260424T002453
CREATED:20250704T231351Z
LAST-MODIFIED:20260103T170832Z
UID:10002459-1860883200-1860969599@sonrisefallbrook.com
SUMMARY:Life Group (Men) @ Maurer Home
DESCRIPTION:jerrymaurer@gmail.com
URL:https://sonrisefallbrook.com/event/life-group-men-maurer-home-44/2028-12-20/
LOCATION:Maurer Home
END:VEVENT
BEGIN:VEVENT
DTSTART;VALUE=DATE:20281227
DTEND;VALUE=DATE:20281228
DTSTAMP:20260424T002453
CREATED:20250704T231351Z
LAST-MODIFIED:20260103T170832Z
UID:10002460-1861488000-1861574399@sonrisefallbrook.com
SUMMARY:Life Group (Men) @ Maurer Home
DESCRIPTION:jerrymaurer@gmail.com
URL:https://sonrisefallbrook.com/event/life-group-men-maurer-home-44/2028-12-27/
LOCATION:Maurer Home
END:VEVENT
BEGIN:VEVENT
DTSTART;VALUE=DATE:20290103
DTEND;VALUE=DATE:20290104
DTSTAMP:20260424T002453
CREATED:20250704T231351Z
LAST-MODIFIED:20260103T170832Z
UID:10002461-1862092800-1862179199@sonrisefallbrook.com
SUMMARY:Life Group (Men) @ Maurer Home
DESCRIPTION:jerrymaurer@gmail.com
URL:https://sonrisefallbrook.com/event/life-group-men-maurer-home-44/2029-01-03/
LOCATION:Maurer Home
END:VEVENT
BEGIN:VEVENT
DTSTART;VALUE=DATE:20290110
DTEND;VALUE=DATE:20290111
DTSTAMP:20260424T002453
CREATED:20250704T231351Z
LAST-MODIFIED:20260103T170832Z
UID:10002462-1862697600-1862783999@sonrisefallbrook.com
SUMMARY:Life Group (Men) @ Maurer Home
DESCRIPTION:jerrymaurer@gmail.com
URL:https://sonrisefallbrook.com/event/life-group-men-maurer-home-44/2029-01-10/
LOCATION:Maurer Home
END:VEVENT
BEGIN:VEVENT
DTSTART;VALUE=DATE:20290117
DTEND;VALUE=DATE:20290118
DTSTAMP:20260424T002453
CREATED:20250704T231351Z
LAST-MODIFIED:20260103T170832Z
UID:10002463-1863302400-1863388799@sonrisefallbrook.com
SUMMARY:Life Group (Men) @ Maurer Home
DESCRIPTION:jerrymaurer@gmail.com
URL:https://sonrisefallbrook.com/event/life-group-men-maurer-home-44/2029-01-17/
LOCATION:Maurer Home
END:VEVENT
BEGIN:VEVENT
DTSTART;VALUE=DATE:20290124
DTEND;VALUE=DATE:20290125
DTSTAMP:20260424T002453
CREATED:20250704T231351Z
LAST-MODIFIED:20260103T170832Z
UID:10002464-1863907200-1863993599@sonrisefallbrook.com
SUMMARY:Life Group (Men) @ Maurer Home
DESCRIPTION:jerrymaurer@gmail.com
URL:https://sonrisefallbrook.com/event/life-group-men-maurer-home-44/2029-01-24/
LOCATION:Maurer Home
END:VEVENT
BEGIN:VEVENT
DTSTART;VALUE=DATE:20290131
DTEND;VALUE=DATE:20290201
DTSTAMP:20260424T002453
CREATED:20250704T231351Z
LAST-MODIFIED:20260103T170832Z
UID:10002465-1864512000-1864598399@sonrisefallbrook.com
SUMMARY:Life Group (Men) @ Maurer Home
DESCRIPTION:jerrymaurer@gmail.com
URL:https://sonrisefallbrook.com/event/life-group-men-maurer-home-44/2029-01-31/
LOCATION:Maurer Home
END:VEVENT
BEGIN:VEVENT
DTSTART;VALUE=DATE:20290207
DTEND;VALUE=DATE:20290208
DTSTAMP:20260424T002453
CREATED:20250704T231351Z
LAST-MODIFIED:20260103T170832Z
UID:10002466-1865116800-1865203199@sonrisefallbrook.com
SUMMARY:Life Group (Men) @ Maurer Home
DESCRIPTION:jerrymaurer@gmail.com
URL:https://sonrisefallbrook.com/event/life-group-men-maurer-home-44/2029-02-07/
LOCATION:Maurer Home
END:VEVENT
BEGIN:VEVENT
DTSTART;VALUE=DATE:20290214
DTEND;VALUE=DATE:20290215
DTSTAMP:20260424T002453
CREATED:20250704T231351Z
LAST-MODIFIED:20260103T170832Z
UID:10002467-1865721600-1865807999@sonrisefallbrook.com
SUMMARY:Life Group (Men) @ Maurer Home
DESCRIPTION:jerrymaurer@gmail.com
URL:https://sonrisefallbrook.com/event/life-group-men-maurer-home-44/2029-02-14/
LOCATION:Maurer Home
END:VEVENT
BEGIN:VEVENT
DTSTART;VALUE=DATE:20290221
DTEND;VALUE=DATE:20290222
DTSTAMP:20260424T002453
CREATED:20250704T231351Z
LAST-MODIFIED:20260103T170832Z
UID:10002468-1866326400-1866412799@sonrisefallbrook.com
SUMMARY:Life Group (Men) @ Maurer Home
DESCRIPTION:jerrymaurer@gmail.com
URL:https://sonrisefallbrook.com/event/life-group-men-maurer-home-44/2029-02-21/
LOCATION:Maurer Home
END:VEVENT
BEGIN:VEVENT
DTSTART;VALUE=DATE:20290228
DTEND;VALUE=DATE:20290301
DTSTAMP:20260424T002453
CREATED:20250704T231351Z
LAST-MODIFIED:20260103T170832Z
UID:10002469-1866931200-1867017599@sonrisefallbrook.com
SUMMARY:Life Group (Men) @ Maurer Home
DESCRIPTION:jerrymaurer@gmail.com
URL:https://sonrisefallbrook.com/event/life-group-men-maurer-home-44/2029-02-28/
LOCATION:Maurer Home
END:VEVENT
BEGIN:VEVENT
DTSTART;VALUE=DATE:20290307
DTEND;VALUE=DATE:20290308
DTSTAMP:20260424T002453
CREATED:20250704T231351Z
LAST-MODIFIED:20260103T170832Z
UID:10002470-1867536000-1867622399@sonrisefallbrook.com
SUMMARY:Life Group (Men) @ Maurer Home
DESCRIPTION:jerrymaurer@gmail.com
URL:https://sonrisefallbrook.com/event/life-group-men-maurer-home-44/2029-03-07/
LOCATION:Maurer Home
END:VEVENT
BEGIN:VEVENT
DTSTART;VALUE=DATE:20290314
DTEND;VALUE=DATE:20290315
DTSTAMP:20260424T002453
CREATED:20250704T231351Z
LAST-MODIFIED:20260103T170832Z
UID:10002471-1868140800-1868227199@sonrisefallbrook.com
SUMMARY:Life Group (Men) @ Maurer Home
DESCRIPTION:jerrymaurer@gmail.com
URL:https://sonrisefallbrook.com/event/life-group-men-maurer-home-44/2029-03-14/
LOCATION:Maurer Home
END:VEVENT
BEGIN:VEVENT
DTSTART;VALUE=DATE:20290321
DTEND;VALUE=DATE:20290322
DTSTAMP:20260424T002453
CREATED:20250704T231351Z
LAST-MODIFIED:20260103T170832Z
UID:10002472-1868745600-1868831999@sonrisefallbrook.com
SUMMARY:Life Group (Men) @ Maurer Home
DESCRIPTION:jerrymaurer@gmail.com
URL:https://sonrisefallbrook.com/event/life-group-men-maurer-home-44/2029-03-21/
LOCATION:Maurer Home
END:VEVENT
BEGIN:VEVENT
DTSTART;VALUE=DATE:20290328
DTEND;VALUE=DATE:20290329
DTSTAMP:20260424T002453
CREATED:20250704T231351Z
LAST-MODIFIED:20260103T170832Z
UID:10002473-1869350400-1869436799@sonrisefallbrook.com
SUMMARY:Life Group (Men) @ Maurer Home
DESCRIPTION:jerrymaurer@gmail.com
URL:https://sonrisefallbrook.com/event/life-group-men-maurer-home-44/2029-03-28/
LOCATION:Maurer Home
END:VEVENT
BEGIN:VEVENT
DTSTART;VALUE=DATE:20290404
DTEND;VALUE=DATE:20290405
DTSTAMP:20260424T002453
CREATED:20250704T231351Z
LAST-MODIFIED:20260103T170832Z
UID:10002474-1869955200-1870041599@sonrisefallbrook.com
SUMMARY:Life Group (Men) @ Maurer Home
DESCRIPTION:jerrymaurer@gmail.com
URL:https://sonrisefallbrook.com/event/life-group-men-maurer-home-44/2029-04-04/
LOCATION:Maurer Home
END:VEVENT
BEGIN:VEVENT
DTSTART;VALUE=DATE:20290411
DTEND;VALUE=DATE:20290412
DTSTAMP:20260424T002453
CREATED:20250704T231351Z
LAST-MODIFIED:20260103T170832Z
UID:10002475-1870560000-1870646399@sonrisefallbrook.com
SUMMARY:Life Group (Men) @ Maurer Home
DESCRIPTION:jerrymaurer@gmail.com
URL:https://sonrisefallbrook.com/event/life-group-men-maurer-home-44/2029-04-11/
LOCATION:Maurer Home
END:VEVENT
BEGIN:VEVENT
DTSTART;VALUE=DATE:20290418
DTEND;VALUE=DATE:20290419
DTSTAMP:20260424T002453
CREATED:20250704T231351Z
LAST-MODIFIED:20260103T170832Z
UID:10002476-1871164800-1871251199@sonrisefallbrook.com
SUMMARY:Life Group (Men) @ Maurer Home
DESCRIPTION:jerrymaurer@gmail.com
URL:https://sonrisefallbrook.com/event/life-group-men-maurer-home-44/2029-04-18/
LOCATION:Maurer Home
END:VEVENT
BEGIN:VEVENT
DTSTART;VALUE=DATE:20290425
DTEND;VALUE=DATE:20290426
DTSTAMP:20260424T002453
CREATED:20250704T231351Z
LAST-MODIFIED:20260103T170832Z
UID:10002477-1871769600-1871855999@sonrisefallbrook.com
SUMMARY:Life Group (Men) @ Maurer Home
DESCRIPTION:jerrymaurer@gmail.com
URL:https://sonrisefallbrook.com/event/life-group-men-maurer-home-44/2029-04-25/
LOCATION:Maurer Home
END:VEVENT
BEGIN:VEVENT
DTSTART;VALUE=DATE:20290502
DTEND;VALUE=DATE:20290503
DTSTAMP:20260424T002453
CREATED:20250704T231351Z
LAST-MODIFIED:20260103T170832Z
UID:10002478-1872374400-1872460799@sonrisefallbrook.com
SUMMARY:Life Group (Men) @ Maurer Home
DESCRIPTION:jerrymaurer@gmail.com
URL:https://sonrisefallbrook.com/event/life-group-men-maurer-home-44/2029-05-02/
LOCATION:Maurer Home
END:VEVENT
BEGIN:VEVENT
DTSTART;VALUE=DATE:20290509
DTEND;VALUE=DATE:20290510
DTSTAMP:20260424T002453
CREATED:20250704T231351Z
LAST-MODIFIED:20260103T170832Z
UID:10002479-1872979200-1873065599@sonrisefallbrook.com
SUMMARY:Life Group (Men) @ Maurer Home
DESCRIPTION:jerrymaurer@gmail.com
URL:https://sonrisefallbrook.com/event/life-group-men-maurer-home-44/2029-05-09/
LOCATION:Maurer Home
END:VEVENT
BEGIN:VEVENT
DTSTART;VALUE=DATE:20290516
DTEND;VALUE=DATE:20290517
DTSTAMP:20260424T002453
CREATED:20250704T231351Z
LAST-MODIFIED:20260103T170832Z
UID:10002480-1873584000-1873670399@sonrisefallbrook.com
SUMMARY:Life Group (Men) @ Maurer Home
DESCRIPTION:jerrymaurer@gmail.com
URL:https://sonrisefallbrook.com/event/life-group-men-maurer-home-44/2029-05-16/
LOCATION:Maurer Home
END:VEVENT
BEGIN:VEVENT
DTSTART;VALUE=DATE:20290523
DTEND;VALUE=DATE:20290524
DTSTAMP:20260424T002453
CREATED:20250704T231351Z
LAST-MODIFIED:20260103T170832Z
UID:10002481-1874188800-1874275199@sonrisefallbrook.com
SUMMARY:Life Group (Men) @ Maurer Home
DESCRIPTION:jerrymaurer@gmail.com
URL:https://sonrisefallbrook.com/event/life-group-men-maurer-home-44/2029-05-23/
LOCATION:Maurer Home
END:VEVENT
BEGIN:VEVENT
DTSTART;VALUE=DATE:20290530
DTEND;VALUE=DATE:20290531
DTSTAMP:20260424T002453
CREATED:20250704T231351Z
LAST-MODIFIED:20260103T170832Z
UID:10002482-1874793600-1874879999@sonrisefallbrook.com
SUMMARY:Life Group (Men) @ Maurer Home
DESCRIPTION:jerrymaurer@gmail.com
URL:https://sonrisefallbrook.com/event/life-group-men-maurer-home-44/2029-05-30/
LOCATION:Maurer Home
END:VEVENT
END:VCALENDAR