BEGIN:VCALENDAR
VERSION:2.0
PRODID:-//SonRise Christian Fellowship - ECPv6.15.20//NONSGML v1.0//EN
CALSCALE:GREGORIAN
METHOD:PUBLISH
X-WR-CALNAME:SonRise Christian Fellowship
X-ORIGINAL-URL:https://sonrisefallbrook.com
X-WR-CALDESC:Events for SonRise Christian Fellowship
REFRESH-INTERVAL;VALUE=DURATION:PT1H
X-Robots-Tag:noindex
X-PUBLISHED-TTL:PT1H
BEGIN:VTIMEZONE
TZID:America/Los_Angeles
BEGIN:DAYLIGHT
TZOFFSETFROM:-0800
TZOFFSETTO:-0700
TZNAME:PDT
DTSTART:20260308T100000
END:DAYLIGHT
BEGIN:STANDARD
TZOFFSETFROM:-0700
TZOFFSETTO:-0800
TZNAME:PST
DTSTART:20261101T090000
END:STANDARD
BEGIN:DAYLIGHT
TZOFFSETFROM:-0800
TZOFFSETTO:-0700
TZNAME:PDT
DTSTART:20270314T100000
END:DAYLIGHT
BEGIN:STANDARD
TZOFFSETFROM:-0700
TZOFFSETTO:-0800
TZNAME:PST
DTSTART:20271107T090000
END:STANDARD
BEGIN:DAYLIGHT
TZOFFSETFROM:-0800
TZOFFSETTO:-0700
TZNAME:PDT
DTSTART:20280312T100000
END:DAYLIGHT
BEGIN:STANDARD
TZOFFSETFROM:-0700
TZOFFSETTO:-0800
TZNAME:PST
DTSTART:20281105T090000
END:STANDARD
BEGIN:DAYLIGHT
TZOFFSETFROM:-0800
TZOFFSETTO:-0700
TZNAME:PDT
DTSTART:20290311T100000
END:DAYLIGHT
BEGIN:STANDARD
TZOFFSETFROM:-0700
TZOFFSETTO:-0800
TZNAME:PST
DTSTART:20291104T090000
END:STANDARD
END:VTIMEZONE
BEGIN:VEVENT
DTSTART;VALUE=DATE:20270623
DTEND;VALUE=DATE:20270624
DTSTAMP:20260423T092129
CREATED:20250704T231351Z
LAST-MODIFIED:20260103T170832Z
UID:10002381-1813708800-1813795199@sonrisefallbrook.com
SUMMARY:Life Group (Men) @ Maurer Home
DESCRIPTION:jerrymaurer@gmail.com
URL:https://sonrisefallbrook.com/event/life-group-men-maurer-home-44/2027-06-23/
LOCATION:Maurer Home
END:VEVENT
BEGIN:VEVENT
DTSTART;VALUE=DATE:20270630
DTEND;VALUE=DATE:20270701
DTSTAMP:20260423T092129
CREATED:20250704T231351Z
LAST-MODIFIED:20260103T170832Z
UID:10002382-1814313600-1814399999@sonrisefallbrook.com
SUMMARY:Life Group (Men) @ Maurer Home
DESCRIPTION:jerrymaurer@gmail.com
URL:https://sonrisefallbrook.com/event/life-group-men-maurer-home-44/2027-06-30/
LOCATION:Maurer Home
END:VEVENT
BEGIN:VEVENT
DTSTART;VALUE=DATE:20270707
DTEND;VALUE=DATE:20270708
DTSTAMP:20260423T092129
CREATED:20250704T231351Z
LAST-MODIFIED:20260103T170832Z
UID:10002383-1814918400-1815004799@sonrisefallbrook.com
SUMMARY:Life Group (Men) @ Maurer Home
DESCRIPTION:jerrymaurer@gmail.com
URL:https://sonrisefallbrook.com/event/life-group-men-maurer-home-44/2027-07-07/
LOCATION:Maurer Home
END:VEVENT
BEGIN:VEVENT
DTSTART;VALUE=DATE:20270714
DTEND;VALUE=DATE:20270715
DTSTAMP:20260423T092129
CREATED:20250704T231351Z
LAST-MODIFIED:20260103T170832Z
UID:10002384-1815523200-1815609599@sonrisefallbrook.com
SUMMARY:Life Group (Men) @ Maurer Home
DESCRIPTION:jerrymaurer@gmail.com
URL:https://sonrisefallbrook.com/event/life-group-men-maurer-home-44/2027-07-14/
LOCATION:Maurer Home
END:VEVENT
BEGIN:VEVENT
DTSTART;VALUE=DATE:20270721
DTEND;VALUE=DATE:20270722
DTSTAMP:20260423T092129
CREATED:20250704T231351Z
LAST-MODIFIED:20260103T170832Z
UID:10002385-1816128000-1816214399@sonrisefallbrook.com
SUMMARY:Life Group (Men) @ Maurer Home
DESCRIPTION:jerrymaurer@gmail.com
URL:https://sonrisefallbrook.com/event/life-group-men-maurer-home-44/2027-07-21/
LOCATION:Maurer Home
END:VEVENT
BEGIN:VEVENT
DTSTART;VALUE=DATE:20270728
DTEND;VALUE=DATE:20270729
DTSTAMP:20260423T092129
CREATED:20250704T231351Z
LAST-MODIFIED:20260103T170832Z
UID:10002386-1816732800-1816819199@sonrisefallbrook.com
SUMMARY:Life Group (Men) @ Maurer Home
DESCRIPTION:jerrymaurer@gmail.com
URL:https://sonrisefallbrook.com/event/life-group-men-maurer-home-44/2027-07-28/
LOCATION:Maurer Home
END:VEVENT
BEGIN:VEVENT
DTSTART;VALUE=DATE:20270804
DTEND;VALUE=DATE:20270805
DTSTAMP:20260423T092129
CREATED:20250704T231351Z
LAST-MODIFIED:20260103T170832Z
UID:10002387-1817337600-1817423999@sonrisefallbrook.com
SUMMARY:Life Group (Men) @ Maurer Home
DESCRIPTION:jerrymaurer@gmail.com
URL:https://sonrisefallbrook.com/event/life-group-men-maurer-home-44/2027-08-04/
LOCATION:Maurer Home
END:VEVENT
BEGIN:VEVENT
DTSTART;VALUE=DATE:20270811
DTEND;VALUE=DATE:20270812
DTSTAMP:20260423T092129
CREATED:20250704T231351Z
LAST-MODIFIED:20260103T170832Z
UID:10002388-1817942400-1818028799@sonrisefallbrook.com
SUMMARY:Life Group (Men) @ Maurer Home
DESCRIPTION:jerrymaurer@gmail.com
URL:https://sonrisefallbrook.com/event/life-group-men-maurer-home-44/2027-08-11/
LOCATION:Maurer Home
END:VEVENT
BEGIN:VEVENT
DTSTART;VALUE=DATE:20270818
DTEND;VALUE=DATE:20270819
DTSTAMP:20260423T092129
CREATED:20250704T231351Z
LAST-MODIFIED:20260103T170832Z
UID:10002389-1818547200-1818633599@sonrisefallbrook.com
SUMMARY:Life Group (Men) @ Maurer Home
DESCRIPTION:jerrymaurer@gmail.com
URL:https://sonrisefallbrook.com/event/life-group-men-maurer-home-44/2027-08-18/
LOCATION:Maurer Home
END:VEVENT
BEGIN:VEVENT
DTSTART;VALUE=DATE:20270825
DTEND;VALUE=DATE:20270826
DTSTAMP:20260423T092129
CREATED:20250704T231351Z
LAST-MODIFIED:20260103T170832Z
UID:10002390-1819152000-1819238399@sonrisefallbrook.com
SUMMARY:Life Group (Men) @ Maurer Home
DESCRIPTION:jerrymaurer@gmail.com
URL:https://sonrisefallbrook.com/event/life-group-men-maurer-home-44/2027-08-25/
LOCATION:Maurer Home
END:VEVENT
BEGIN:VEVENT
DTSTART;VALUE=DATE:20270901
DTEND;VALUE=DATE:20270902
DTSTAMP:20260423T092129
CREATED:20250704T231351Z
LAST-MODIFIED:20260103T170832Z
UID:10002391-1819756800-1819843199@sonrisefallbrook.com
SUMMARY:Life Group (Men) @ Maurer Home
DESCRIPTION:jerrymaurer@gmail.com
URL:https://sonrisefallbrook.com/event/life-group-men-maurer-home-44/2027-09-01/
LOCATION:Maurer Home
END:VEVENT
BEGIN:VEVENT
DTSTART;VALUE=DATE:20270908
DTEND;VALUE=DATE:20270909
DTSTAMP:20260423T092129
CREATED:20250704T231351Z
LAST-MODIFIED:20260103T170832Z
UID:10002392-1820361600-1820447999@sonrisefallbrook.com
SUMMARY:Life Group (Men) @ Maurer Home
DESCRIPTION:jerrymaurer@gmail.com
URL:https://sonrisefallbrook.com/event/life-group-men-maurer-home-44/2027-09-08/
LOCATION:Maurer Home
END:VEVENT
BEGIN:VEVENT
DTSTART;VALUE=DATE:20270915
DTEND;VALUE=DATE:20270916
DTSTAMP:20260423T092129
CREATED:20250704T231351Z
LAST-MODIFIED:20260103T170832Z
UID:10002393-1820966400-1821052799@sonrisefallbrook.com
SUMMARY:Life Group (Men) @ Maurer Home
DESCRIPTION:jerrymaurer@gmail.com
URL:https://sonrisefallbrook.com/event/life-group-men-maurer-home-44/2027-09-15/
LOCATION:Maurer Home
END:VEVENT
BEGIN:VEVENT
DTSTART;VALUE=DATE:20270922
DTEND;VALUE=DATE:20270923
DTSTAMP:20260423T092129
CREATED:20250704T231351Z
LAST-MODIFIED:20260103T170832Z
UID:10002394-1821571200-1821657599@sonrisefallbrook.com
SUMMARY:Life Group (Men) @ Maurer Home
DESCRIPTION:jerrymaurer@gmail.com
URL:https://sonrisefallbrook.com/event/life-group-men-maurer-home-44/2027-09-22/
LOCATION:Maurer Home
END:VEVENT
BEGIN:VEVENT
DTSTART;VALUE=DATE:20270929
DTEND;VALUE=DATE:20270930
DTSTAMP:20260423T092129
CREATED:20250704T231351Z
LAST-MODIFIED:20260103T170832Z
UID:10002395-1822176000-1822262399@sonrisefallbrook.com
SUMMARY:Life Group (Men) @ Maurer Home
DESCRIPTION:jerrymaurer@gmail.com
URL:https://sonrisefallbrook.com/event/life-group-men-maurer-home-44/2027-09-29/
LOCATION:Maurer Home
END:VEVENT
BEGIN:VEVENT
DTSTART;VALUE=DATE:20271006
DTEND;VALUE=DATE:20271007
DTSTAMP:20260423T092129
CREATED:20250704T231351Z
LAST-MODIFIED:20260103T170832Z
UID:10002396-1822780800-1822867199@sonrisefallbrook.com
SUMMARY:Life Group (Men) @ Maurer Home
DESCRIPTION:jerrymaurer@gmail.com
URL:https://sonrisefallbrook.com/event/life-group-men-maurer-home-44/2027-10-06/
LOCATION:Maurer Home
END:VEVENT
BEGIN:VEVENT
DTSTART;VALUE=DATE:20271013
DTEND;VALUE=DATE:20271014
DTSTAMP:20260423T092129
CREATED:20250704T231351Z
LAST-MODIFIED:20260103T170832Z
UID:10002397-1823385600-1823471999@sonrisefallbrook.com
SUMMARY:Life Group (Men) @ Maurer Home
DESCRIPTION:jerrymaurer@gmail.com
URL:https://sonrisefallbrook.com/event/life-group-men-maurer-home-44/2027-10-13/
LOCATION:Maurer Home
END:VEVENT
BEGIN:VEVENT
DTSTART;VALUE=DATE:20271020
DTEND;VALUE=DATE:20271021
DTSTAMP:20260423T092129
CREATED:20250704T231351Z
LAST-MODIFIED:20260103T170832Z
UID:10002398-1823990400-1824076799@sonrisefallbrook.com
SUMMARY:Life Group (Men) @ Maurer Home
DESCRIPTION:jerrymaurer@gmail.com
URL:https://sonrisefallbrook.com/event/life-group-men-maurer-home-44/2027-10-20/
LOCATION:Maurer Home
END:VEVENT
BEGIN:VEVENT
DTSTART;VALUE=DATE:20271027
DTEND;VALUE=DATE:20271028
DTSTAMP:20260423T092129
CREATED:20250704T231351Z
LAST-MODIFIED:20260103T170832Z
UID:10002399-1824595200-1824681599@sonrisefallbrook.com
SUMMARY:Life Group (Men) @ Maurer Home
DESCRIPTION:jerrymaurer@gmail.com
URL:https://sonrisefallbrook.com/event/life-group-men-maurer-home-44/2027-10-27/
LOCATION:Maurer Home
END:VEVENT
BEGIN:VEVENT
DTSTART;VALUE=DATE:20271103
DTEND;VALUE=DATE:20271104
DTSTAMP:20260423T092129
CREATED:20250704T231351Z
LAST-MODIFIED:20260103T170832Z
UID:10002400-1825200000-1825286399@sonrisefallbrook.com
SUMMARY:Life Group (Men) @ Maurer Home
DESCRIPTION:jerrymaurer@gmail.com
URL:https://sonrisefallbrook.com/event/life-group-men-maurer-home-44/2027-11-03/
LOCATION:Maurer Home
END:VEVENT
BEGIN:VEVENT
DTSTART;VALUE=DATE:20271110
DTEND;VALUE=DATE:20271111
DTSTAMP:20260423T092129
CREATED:20250704T231351Z
LAST-MODIFIED:20260103T170832Z
UID:10002401-1825804800-1825891199@sonrisefallbrook.com
SUMMARY:Life Group (Men) @ Maurer Home
DESCRIPTION:jerrymaurer@gmail.com
URL:https://sonrisefallbrook.com/event/life-group-men-maurer-home-44/2027-11-10/
LOCATION:Maurer Home
END:VEVENT
BEGIN:VEVENT
DTSTART;VALUE=DATE:20271117
DTEND;VALUE=DATE:20271118
DTSTAMP:20260423T092129
CREATED:20250704T231351Z
LAST-MODIFIED:20260103T170832Z
UID:10002402-1826409600-1826495999@sonrisefallbrook.com
SUMMARY:Life Group (Men) @ Maurer Home
DESCRIPTION:jerrymaurer@gmail.com
URL:https://sonrisefallbrook.com/event/life-group-men-maurer-home-44/2027-11-17/
LOCATION:Maurer Home
END:VEVENT
BEGIN:VEVENT
DTSTART;VALUE=DATE:20271124
DTEND;VALUE=DATE:20271125
DTSTAMP:20260423T092129
CREATED:20250704T231351Z
LAST-MODIFIED:20260103T170832Z
UID:10002403-1827014400-1827100799@sonrisefallbrook.com
SUMMARY:Life Group (Men) @ Maurer Home
DESCRIPTION:jerrymaurer@gmail.com
URL:https://sonrisefallbrook.com/event/life-group-men-maurer-home-44/2027-11-24/
LOCATION:Maurer Home
END:VEVENT
BEGIN:VEVENT
DTSTART;VALUE=DATE:20271201
DTEND;VALUE=DATE:20271202
DTSTAMP:20260423T092129
CREATED:20250704T231351Z
LAST-MODIFIED:20260103T170832Z
UID:10002404-1827619200-1827705599@sonrisefallbrook.com
SUMMARY:Life Group (Men) @ Maurer Home
DESCRIPTION:jerrymaurer@gmail.com
URL:https://sonrisefallbrook.com/event/life-group-men-maurer-home-44/2027-12-01/
LOCATION:Maurer Home
END:VEVENT
BEGIN:VEVENT
DTSTART;VALUE=DATE:20271208
DTEND;VALUE=DATE:20271209
DTSTAMP:20260423T092129
CREATED:20250704T231351Z
LAST-MODIFIED:20260103T170832Z
UID:10002405-1828224000-1828310399@sonrisefallbrook.com
SUMMARY:Life Group (Men) @ Maurer Home
DESCRIPTION:jerrymaurer@gmail.com
URL:https://sonrisefallbrook.com/event/life-group-men-maurer-home-44/2027-12-08/
LOCATION:Maurer Home
END:VEVENT
BEGIN:VEVENT
DTSTART;VALUE=DATE:20271215
DTEND;VALUE=DATE:20271216
DTSTAMP:20260423T092129
CREATED:20250704T231351Z
LAST-MODIFIED:20260103T170832Z
UID:10002406-1828828800-1828915199@sonrisefallbrook.com
SUMMARY:Life Group (Men) @ Maurer Home
DESCRIPTION:jerrymaurer@gmail.com
URL:https://sonrisefallbrook.com/event/life-group-men-maurer-home-44/2027-12-15/
LOCATION:Maurer Home
END:VEVENT
BEGIN:VEVENT
DTSTART;VALUE=DATE:20271222
DTEND;VALUE=DATE:20271223
DTSTAMP:20260423T092129
CREATED:20250704T231351Z
LAST-MODIFIED:20260103T170832Z
UID:10002407-1829433600-1829519999@sonrisefallbrook.com
SUMMARY:Life Group (Men) @ Maurer Home
DESCRIPTION:jerrymaurer@gmail.com
URL:https://sonrisefallbrook.com/event/life-group-men-maurer-home-44/2027-12-22/
LOCATION:Maurer Home
END:VEVENT
BEGIN:VEVENT
DTSTART;VALUE=DATE:20271229
DTEND;VALUE=DATE:20271230
DTSTAMP:20260423T092129
CREATED:20250704T231351Z
LAST-MODIFIED:20260103T170832Z
UID:10002408-1830038400-1830124799@sonrisefallbrook.com
SUMMARY:Life Group (Men) @ Maurer Home
DESCRIPTION:jerrymaurer@gmail.com
URL:https://sonrisefallbrook.com/event/life-group-men-maurer-home-44/2027-12-29/
LOCATION:Maurer Home
END:VEVENT
BEGIN:VEVENT
DTSTART;VALUE=DATE:20280105
DTEND;VALUE=DATE:20280106
DTSTAMP:20260423T092129
CREATED:20250704T231351Z
LAST-MODIFIED:20260103T170832Z
UID:10002409-1830643200-1830729599@sonrisefallbrook.com
SUMMARY:Life Group (Men) @ Maurer Home
DESCRIPTION:jerrymaurer@gmail.com
URL:https://sonrisefallbrook.com/event/life-group-men-maurer-home-44/2028-01-05/
LOCATION:Maurer Home
END:VEVENT
BEGIN:VEVENT
DTSTART;VALUE=DATE:20280112
DTEND;VALUE=DATE:20280113
DTSTAMP:20260423T092129
CREATED:20250704T231351Z
LAST-MODIFIED:20260103T170832Z
UID:10002410-1831248000-1831334399@sonrisefallbrook.com
SUMMARY:Life Group (Men) @ Maurer Home
DESCRIPTION:jerrymaurer@gmail.com
URL:https://sonrisefallbrook.com/event/life-group-men-maurer-home-44/2028-01-12/
LOCATION:Maurer Home
END:VEVENT
END:VCALENDAR