BEGIN:VCALENDAR
VERSION:2.0
PRODID:-//SonRise Christian Fellowship - ECPv6.15.20//NONSGML v1.0//EN
CALSCALE:GREGORIAN
METHOD:PUBLISH
X-ORIGINAL-URL:https://sonrisefallbrook.com
X-WR-CALDESC:Events for SonRise Christian Fellowship
REFRESH-INTERVAL;VALUE=DURATION:PT1H
X-Robots-Tag:noindex
X-PUBLISHED-TTL:PT1H
BEGIN:VTIMEZONE
TZID:America/Los_Angeles
BEGIN:DAYLIGHT
TZOFFSETFROM:-0800
TZOFFSETTO:-0700
TZNAME:PDT
DTSTART:20260308T100000
END:DAYLIGHT
BEGIN:STANDARD
TZOFFSETFROM:-0700
TZOFFSETTO:-0800
TZNAME:PST
DTSTART:20261101T090000
END:STANDARD
BEGIN:DAYLIGHT
TZOFFSETFROM:-0800
TZOFFSETTO:-0700
TZNAME:PDT
DTSTART:20270314T100000
END:DAYLIGHT
BEGIN:STANDARD
TZOFFSETFROM:-0700
TZOFFSETTO:-0800
TZNAME:PST
DTSTART:20271107T090000
END:STANDARD
BEGIN:DAYLIGHT
TZOFFSETFROM:-0800
TZOFFSETTO:-0700
TZNAME:PDT
DTSTART:20280312T100000
END:DAYLIGHT
BEGIN:STANDARD
TZOFFSETFROM:-0700
TZOFFSETTO:-0800
TZNAME:PST
DTSTART:20281105T090000
END:STANDARD
BEGIN:DAYLIGHT
TZOFFSETFROM:-0800
TZOFFSETTO:-0700
TZNAME:PDT
DTSTART:20290311T100000
END:DAYLIGHT
BEGIN:STANDARD
TZOFFSETFROM:-0700
TZOFFSETTO:-0800
TZNAME:PST
DTSTART:20291104T090000
END:STANDARD
END:VTIMEZONE
BEGIN:VEVENT
DTSTART;VALUE=DATE:20271208
DTEND;VALUE=DATE:20271209
DTSTAMP:20260425T121334
CREATED:20250704T231351Z
LAST-MODIFIED:20260103T170832Z
UID:10002405-1828224000-1828310399@sonrisefallbrook.com
SUMMARY:Life Group (Men) @ Maurer Home
DESCRIPTION:jerrymaurer@gmail.com
URL:https://sonrisefallbrook.com/event/life-group-men-maurer-home-44/2027-12-08/
LOCATION:Maurer Home
END:VEVENT
BEGIN:VEVENT
DTSTART;VALUE=DATE:20271215
DTEND;VALUE=DATE:20271216
DTSTAMP:20260425T121334
CREATED:20250704T231351Z
LAST-MODIFIED:20260103T170832Z
UID:10002406-1828828800-1828915199@sonrisefallbrook.com
SUMMARY:Life Group (Men) @ Maurer Home
DESCRIPTION:jerrymaurer@gmail.com
URL:https://sonrisefallbrook.com/event/life-group-men-maurer-home-44/2027-12-15/
LOCATION:Maurer Home
END:VEVENT
BEGIN:VEVENT
DTSTART;VALUE=DATE:20271222
DTEND;VALUE=DATE:20271223
DTSTAMP:20260425T121334
CREATED:20250704T231351Z
LAST-MODIFIED:20260103T170832Z
UID:10002407-1829433600-1829519999@sonrisefallbrook.com
SUMMARY:Life Group (Men) @ Maurer Home
DESCRIPTION:jerrymaurer@gmail.com
URL:https://sonrisefallbrook.com/event/life-group-men-maurer-home-44/2027-12-22/
LOCATION:Maurer Home
END:VEVENT
BEGIN:VEVENT
DTSTART;VALUE=DATE:20271229
DTEND;VALUE=DATE:20271230
DTSTAMP:20260425T121334
CREATED:20250704T231351Z
LAST-MODIFIED:20260103T170832Z
UID:10002408-1830038400-1830124799@sonrisefallbrook.com
SUMMARY:Life Group (Men) @ Maurer Home
DESCRIPTION:jerrymaurer@gmail.com
URL:https://sonrisefallbrook.com/event/life-group-men-maurer-home-44/2027-12-29/
LOCATION:Maurer Home
END:VEVENT
BEGIN:VEVENT
DTSTART;VALUE=DATE:20280105
DTEND;VALUE=DATE:20280106
DTSTAMP:20260425T121334
CREATED:20250704T231351Z
LAST-MODIFIED:20260103T170832Z
UID:10002409-1830643200-1830729599@sonrisefallbrook.com
SUMMARY:Life Group (Men) @ Maurer Home
DESCRIPTION:jerrymaurer@gmail.com
URL:https://sonrisefallbrook.com/event/life-group-men-maurer-home-44/2028-01-05/
LOCATION:Maurer Home
END:VEVENT
BEGIN:VEVENT
DTSTART;VALUE=DATE:20280112
DTEND;VALUE=DATE:20280113
DTSTAMP:20260425T121334
CREATED:20250704T231351Z
LAST-MODIFIED:20260103T170832Z
UID:10002410-1831248000-1831334399@sonrisefallbrook.com
SUMMARY:Life Group (Men) @ Maurer Home
DESCRIPTION:jerrymaurer@gmail.com
URL:https://sonrisefallbrook.com/event/life-group-men-maurer-home-44/2028-01-12/
LOCATION:Maurer Home
END:VEVENT
BEGIN:VEVENT
DTSTART;VALUE=DATE:20280119
DTEND;VALUE=DATE:20280120
DTSTAMP:20260425T121334
CREATED:20250704T231351Z
LAST-MODIFIED:20260103T170832Z
UID:10002411-1831852800-1831939199@sonrisefallbrook.com
SUMMARY:Life Group (Men) @ Maurer Home
DESCRIPTION:jerrymaurer@gmail.com
URL:https://sonrisefallbrook.com/event/life-group-men-maurer-home-44/2028-01-19/
LOCATION:Maurer Home
END:VEVENT
BEGIN:VEVENT
DTSTART;VALUE=DATE:20280126
DTEND;VALUE=DATE:20280127
DTSTAMP:20260425T121334
CREATED:20250704T231351Z
LAST-MODIFIED:20260103T170832Z
UID:10002412-1832457600-1832543999@sonrisefallbrook.com
SUMMARY:Life Group (Men) @ Maurer Home
DESCRIPTION:jerrymaurer@gmail.com
URL:https://sonrisefallbrook.com/event/life-group-men-maurer-home-44/2028-01-26/
LOCATION:Maurer Home
END:VEVENT
BEGIN:VEVENT
DTSTART;VALUE=DATE:20280202
DTEND;VALUE=DATE:20280203
DTSTAMP:20260425T121334
CREATED:20250704T231351Z
LAST-MODIFIED:20260103T170832Z
UID:10002413-1833062400-1833148799@sonrisefallbrook.com
SUMMARY:Life Group (Men) @ Maurer Home
DESCRIPTION:jerrymaurer@gmail.com
URL:https://sonrisefallbrook.com/event/life-group-men-maurer-home-44/2028-02-02/
LOCATION:Maurer Home
END:VEVENT
BEGIN:VEVENT
DTSTART;VALUE=DATE:20280209
DTEND;VALUE=DATE:20280210
DTSTAMP:20260425T121334
CREATED:20250704T231351Z
LAST-MODIFIED:20260103T170832Z
UID:10002414-1833667200-1833753599@sonrisefallbrook.com
SUMMARY:Life Group (Men) @ Maurer Home
DESCRIPTION:jerrymaurer@gmail.com
URL:https://sonrisefallbrook.com/event/life-group-men-maurer-home-44/2028-02-09/
LOCATION:Maurer Home
END:VEVENT
BEGIN:VEVENT
DTSTART;VALUE=DATE:20280216
DTEND;VALUE=DATE:20280217
DTSTAMP:20260425T121334
CREATED:20250704T231351Z
LAST-MODIFIED:20260103T170832Z
UID:10002415-1834272000-1834358399@sonrisefallbrook.com
SUMMARY:Life Group (Men) @ Maurer Home
DESCRIPTION:jerrymaurer@gmail.com
URL:https://sonrisefallbrook.com/event/life-group-men-maurer-home-44/2028-02-16/
LOCATION:Maurer Home
END:VEVENT
BEGIN:VEVENT
DTSTART;VALUE=DATE:20280223
DTEND;VALUE=DATE:20280224
DTSTAMP:20260425T121334
CREATED:20250704T231351Z
LAST-MODIFIED:20260103T170832Z
UID:10002416-1834876800-1834963199@sonrisefallbrook.com
SUMMARY:Life Group (Men) @ Maurer Home
DESCRIPTION:jerrymaurer@gmail.com
URL:https://sonrisefallbrook.com/event/life-group-men-maurer-home-44/2028-02-23/
LOCATION:Maurer Home
END:VEVENT
BEGIN:VEVENT
DTSTART;VALUE=DATE:20280301
DTEND;VALUE=DATE:20280302
DTSTAMP:20260425T121334
CREATED:20250704T231351Z
LAST-MODIFIED:20260103T170832Z
UID:10002417-1835481600-1835567999@sonrisefallbrook.com
SUMMARY:Life Group (Men) @ Maurer Home
DESCRIPTION:jerrymaurer@gmail.com
URL:https://sonrisefallbrook.com/event/life-group-men-maurer-home-44/2028-03-01/
LOCATION:Maurer Home
END:VEVENT
BEGIN:VEVENT
DTSTART;VALUE=DATE:20280308
DTEND;VALUE=DATE:20280309
DTSTAMP:20260425T121334
CREATED:20250704T231351Z
LAST-MODIFIED:20260103T170832Z
UID:10002418-1836086400-1836172799@sonrisefallbrook.com
SUMMARY:Life Group (Men) @ Maurer Home
DESCRIPTION:jerrymaurer@gmail.com
URL:https://sonrisefallbrook.com/event/life-group-men-maurer-home-44/2028-03-08/
LOCATION:Maurer Home
END:VEVENT
BEGIN:VEVENT
DTSTART;VALUE=DATE:20280315
DTEND;VALUE=DATE:20280316
DTSTAMP:20260425T121334
CREATED:20250704T231351Z
LAST-MODIFIED:20260103T170832Z
UID:10002419-1836691200-1836777599@sonrisefallbrook.com
SUMMARY:Life Group (Men) @ Maurer Home
DESCRIPTION:jerrymaurer@gmail.com
URL:https://sonrisefallbrook.com/event/life-group-men-maurer-home-44/2028-03-15/
LOCATION:Maurer Home
END:VEVENT
BEGIN:VEVENT
DTSTART;VALUE=DATE:20280322
DTEND;VALUE=DATE:20280323
DTSTAMP:20260425T121334
CREATED:20250704T231351Z
LAST-MODIFIED:20260103T170832Z
UID:10002420-1837296000-1837382399@sonrisefallbrook.com
SUMMARY:Life Group (Men) @ Maurer Home
DESCRIPTION:jerrymaurer@gmail.com
URL:https://sonrisefallbrook.com/event/life-group-men-maurer-home-44/2028-03-22/
LOCATION:Maurer Home
END:VEVENT
BEGIN:VEVENT
DTSTART;VALUE=DATE:20280329
DTEND;VALUE=DATE:20280330
DTSTAMP:20260425T121334
CREATED:20250704T231351Z
LAST-MODIFIED:20260103T170832Z
UID:10002421-1837900800-1837987199@sonrisefallbrook.com
SUMMARY:Life Group (Men) @ Maurer Home
DESCRIPTION:jerrymaurer@gmail.com
URL:https://sonrisefallbrook.com/event/life-group-men-maurer-home-44/2028-03-29/
LOCATION:Maurer Home
END:VEVENT
BEGIN:VEVENT
DTSTART;VALUE=DATE:20280405
DTEND;VALUE=DATE:20280406
DTSTAMP:20260425T121334
CREATED:20250704T231351Z
LAST-MODIFIED:20260103T170832Z
UID:10002422-1838505600-1838591999@sonrisefallbrook.com
SUMMARY:Life Group (Men) @ Maurer Home
DESCRIPTION:jerrymaurer@gmail.com
URL:https://sonrisefallbrook.com/event/life-group-men-maurer-home-44/2028-04-05/
LOCATION:Maurer Home
END:VEVENT
BEGIN:VEVENT
DTSTART;VALUE=DATE:20280412
DTEND;VALUE=DATE:20280413
DTSTAMP:20260425T121334
CREATED:20250704T231351Z
LAST-MODIFIED:20260103T170832Z
UID:10002423-1839110400-1839196799@sonrisefallbrook.com
SUMMARY:Life Group (Men) @ Maurer Home
DESCRIPTION:jerrymaurer@gmail.com
URL:https://sonrisefallbrook.com/event/life-group-men-maurer-home-44/2028-04-12/
LOCATION:Maurer Home
END:VEVENT
BEGIN:VEVENT
DTSTART;VALUE=DATE:20280419
DTEND;VALUE=DATE:20280420
DTSTAMP:20260425T121334
CREATED:20250704T231351Z
LAST-MODIFIED:20260103T170832Z
UID:10002424-1839715200-1839801599@sonrisefallbrook.com
SUMMARY:Life Group (Men) @ Maurer Home
DESCRIPTION:jerrymaurer@gmail.com
URL:https://sonrisefallbrook.com/event/life-group-men-maurer-home-44/2028-04-19/
LOCATION:Maurer Home
END:VEVENT
BEGIN:VEVENT
DTSTART;VALUE=DATE:20280426
DTEND;VALUE=DATE:20280427
DTSTAMP:20260425T121334
CREATED:20250704T231351Z
LAST-MODIFIED:20260103T170832Z
UID:10002425-1840320000-1840406399@sonrisefallbrook.com
SUMMARY:Life Group (Men) @ Maurer Home
DESCRIPTION:jerrymaurer@gmail.com
URL:https://sonrisefallbrook.com/event/life-group-men-maurer-home-44/2028-04-26/
LOCATION:Maurer Home
END:VEVENT
BEGIN:VEVENT
DTSTART;VALUE=DATE:20280503
DTEND;VALUE=DATE:20280504
DTSTAMP:20260425T121334
CREATED:20250704T231351Z
LAST-MODIFIED:20260103T170832Z
UID:10002426-1840924800-1841011199@sonrisefallbrook.com
SUMMARY:Life Group (Men) @ Maurer Home
DESCRIPTION:jerrymaurer@gmail.com
URL:https://sonrisefallbrook.com/event/life-group-men-maurer-home-44/2028-05-03/
LOCATION:Maurer Home
END:VEVENT
BEGIN:VEVENT
DTSTART;VALUE=DATE:20280510
DTEND;VALUE=DATE:20280511
DTSTAMP:20260425T121334
CREATED:20250704T231351Z
LAST-MODIFIED:20260103T170832Z
UID:10002427-1841529600-1841615999@sonrisefallbrook.com
SUMMARY:Life Group (Men) @ Maurer Home
DESCRIPTION:jerrymaurer@gmail.com
URL:https://sonrisefallbrook.com/event/life-group-men-maurer-home-44/2028-05-10/
LOCATION:Maurer Home
END:VEVENT
BEGIN:VEVENT
DTSTART;VALUE=DATE:20280517
DTEND;VALUE=DATE:20280518
DTSTAMP:20260425T121334
CREATED:20250704T231351Z
LAST-MODIFIED:20260103T170832Z
UID:10002428-1842134400-1842220799@sonrisefallbrook.com
SUMMARY:Life Group (Men) @ Maurer Home
DESCRIPTION:jerrymaurer@gmail.com
URL:https://sonrisefallbrook.com/event/life-group-men-maurer-home-44/2028-05-17/
LOCATION:Maurer Home
END:VEVENT
BEGIN:VEVENT
DTSTART;VALUE=DATE:20280524
DTEND;VALUE=DATE:20280525
DTSTAMP:20260425T121334
CREATED:20250704T231351Z
LAST-MODIFIED:20260103T170832Z
UID:10002429-1842739200-1842825599@sonrisefallbrook.com
SUMMARY:Life Group (Men) @ Maurer Home
DESCRIPTION:jerrymaurer@gmail.com
URL:https://sonrisefallbrook.com/event/life-group-men-maurer-home-44/2028-05-24/
LOCATION:Maurer Home
END:VEVENT
BEGIN:VEVENT
DTSTART;VALUE=DATE:20280531
DTEND;VALUE=DATE:20280601
DTSTAMP:20260425T121334
CREATED:20250704T231351Z
LAST-MODIFIED:20260103T170832Z
UID:10002430-1843344000-1843430399@sonrisefallbrook.com
SUMMARY:Life Group (Men) @ Maurer Home
DESCRIPTION:jerrymaurer@gmail.com
URL:https://sonrisefallbrook.com/event/life-group-men-maurer-home-44/2028-05-31/
LOCATION:Maurer Home
END:VEVENT
BEGIN:VEVENT
DTSTART;VALUE=DATE:20280607
DTEND;VALUE=DATE:20280608
DTSTAMP:20260425T121334
CREATED:20250704T231351Z
LAST-MODIFIED:20260103T170832Z
UID:10002431-1843948800-1844035199@sonrisefallbrook.com
SUMMARY:Life Group (Men) @ Maurer Home
DESCRIPTION:jerrymaurer@gmail.com
URL:https://sonrisefallbrook.com/event/life-group-men-maurer-home-44/2028-06-07/
LOCATION:Maurer Home
END:VEVENT
BEGIN:VEVENT
DTSTART;VALUE=DATE:20280614
DTEND;VALUE=DATE:20280615
DTSTAMP:20260425T121334
CREATED:20250704T231351Z
LAST-MODIFIED:20260103T170832Z
UID:10002432-1844553600-1844639999@sonrisefallbrook.com
SUMMARY:Life Group (Men) @ Maurer Home
DESCRIPTION:jerrymaurer@gmail.com
URL:https://sonrisefallbrook.com/event/life-group-men-maurer-home-44/2028-06-14/
LOCATION:Maurer Home
END:VEVENT
BEGIN:VEVENT
DTSTART;VALUE=DATE:20280621
DTEND;VALUE=DATE:20280622
DTSTAMP:20260425T121334
CREATED:20250704T231351Z
LAST-MODIFIED:20260103T170832Z
UID:10002433-1845158400-1845244799@sonrisefallbrook.com
SUMMARY:Life Group (Men) @ Maurer Home
DESCRIPTION:jerrymaurer@gmail.com
URL:https://sonrisefallbrook.com/event/life-group-men-maurer-home-44/2028-06-21/
LOCATION:Maurer Home
END:VEVENT
BEGIN:VEVENT
DTSTART;VALUE=DATE:20280628
DTEND;VALUE=DATE:20280629
DTSTAMP:20260425T121334
CREATED:20250704T231351Z
LAST-MODIFIED:20260103T170832Z
UID:10002434-1845763200-1845849599@sonrisefallbrook.com
SUMMARY:Life Group (Men) @ Maurer Home
DESCRIPTION:jerrymaurer@gmail.com
URL:https://sonrisefallbrook.com/event/life-group-men-maurer-home-44/2028-06-28/
LOCATION:Maurer Home
END:VEVENT
END:VCALENDAR