BEGIN:VCALENDAR
VERSION:2.0
PRODID:-//SonRise Christian Fellowship - ECPv6.15.20//NONSGML v1.0//EN
CALSCALE:GREGORIAN
METHOD:PUBLISH
X-WR-CALNAME:SonRise Christian Fellowship
X-ORIGINAL-URL:https://sonrisefallbrook.com
X-WR-CALDESC:Events for SonRise Christian Fellowship
REFRESH-INTERVAL;VALUE=DURATION:PT1H
X-Robots-Tag:noindex
X-PUBLISHED-TTL:PT1H
BEGIN:VTIMEZONE
TZID:UTC
BEGIN:STANDARD
TZOFFSETFROM:+0000
TZOFFSETTO:+0000
TZNAME:UTC
DTSTART:20250101T000000
END:STANDARD
END:VTIMEZONE
BEGIN:VEVENT
DTSTART;TZID=UTC:20260426T103000
DTEND;TZID=UTC:20260426T140000
DTSTAMP:20260421T064321
CREATED:20260421T000244Z
LAST-MODIFIED:20260421T000244Z
UID:10006053-1777199400-1777212000@sonrisefallbrook.com
SUMMARY:SonRise Volunteer Fair
DESCRIPTION:SonRise Volunteer Fair | Sunday\, April 26 after 9am Live Worship Service.
URL:https://sonrisefallbrook.com/event/sonrise-volunteer-fair/
LOCATION:SonRise Christian Fellowship\, 463 S Stage Coach Ln.\, Fallbrook\, CA\, 92028\, United States
END:VEVENT
BEGIN:VEVENT
DTSTART;TZID=UTC:20260503T090000
DTEND;TZID=UTC:20260503T223000
DTSTAMP:20260421T064321
CREATED:20260421T000614Z
LAST-MODIFIED:20260421T000614Z
UID:10006054-1777798800-1777847400@sonrisefallbrook.com
SUMMARY:Communion Sunday & Live Worship Service
DESCRIPTION:Communion Sunday during Live Worship Service.
URL:https://sonrisefallbrook.com/event/communion-sunday-live-worship-service/
LOCATION:SonRise Christian Fellowship\, 463 S Stage Coach Ln.\, Fallbrook\, CA\, 92028\, United States
END:VEVENT
END:VCALENDAR