BEGIN:VCALENDAR
VERSION:2.0
PRODID:-//SonRise Christian Fellowship - ECPv6.15.20//NONSGML v1.0//EN
CALSCALE:GREGORIAN
METHOD:PUBLISH
X-ORIGINAL-URL:https://sonrisefallbrook.com
X-WR-CALDESC:Events for SonRise Christian Fellowship
REFRESH-INTERVAL;VALUE=DURATION:PT1H
X-Robots-Tag:noindex
X-PUBLISHED-TTL:PT1H
BEGIN:VTIMEZONE
TZID:America/Los_Angeles
BEGIN:DAYLIGHT
TZOFFSETFROM:-0800
TZOFFSETTO:-0700
TZNAME:PDT
DTSTART:20250309T100000
END:DAYLIGHT
BEGIN:STANDARD
TZOFFSETFROM:-0700
TZOFFSETTO:-0800
TZNAME:PST
DTSTART:20251102T090000
END:STANDARD
BEGIN:DAYLIGHT
TZOFFSETFROM:-0800
TZOFFSETTO:-0700
TZNAME:PDT
DTSTART:20260308T100000
END:DAYLIGHT
BEGIN:STANDARD
TZOFFSETFROM:-0700
TZOFFSETTO:-0800
TZNAME:PST
DTSTART:20261101T090000
END:STANDARD
BEGIN:DAYLIGHT
TZOFFSETFROM:-0800
TZOFFSETTO:-0700
TZNAME:PDT
DTSTART:20270314T100000
END:DAYLIGHT
BEGIN:STANDARD
TZOFFSETFROM:-0700
TZOFFSETTO:-0800
TZNAME:PST
DTSTART:20271107T090000
END:STANDARD
BEGIN:DAYLIGHT
TZOFFSETFROM:-0800
TZOFFSETTO:-0700
TZNAME:PDT
DTSTART:20280312T100000
END:DAYLIGHT
BEGIN:STANDARD
TZOFFSETFROM:-0700
TZOFFSETTO:-0800
TZNAME:PST
DTSTART:20281105T090000
END:STANDARD
END:VTIMEZONE
BEGIN:VEVENT
DTSTART;VALUE=DATE:20260916
DTEND;VALUE=DATE:20260917
DTSTAMP:20260422T215207
CREATED:20250706T232941Z
LAST-MODIFIED:20260103T170801Z
UID:10002080-1789516800-1789603199@sonrisefallbrook.com
SUMMARY:Life Group (Women) w/ Art Blodgett
DESCRIPTION:artblodgett@yahoo.com
URL:https://sonrisefallbrook.com/event/life-group-women-w-art-blodgett-45/2026-09-16/
LOCATION:Wilson Center at SonRise
END:VEVENT
BEGIN:VEVENT
DTSTART;VALUE=DATE:20260923
DTEND;VALUE=DATE:20260924
DTSTAMP:20260422T215207
CREATED:20250706T232941Z
LAST-MODIFIED:20260103T170801Z
UID:10002081-1790121600-1790207999@sonrisefallbrook.com
SUMMARY:Life Group (Women) w/ Art Blodgett
DESCRIPTION:artblodgett@yahoo.com
URL:https://sonrisefallbrook.com/event/life-group-women-w-art-blodgett-45/2026-09-23/
LOCATION:Wilson Center at SonRise
END:VEVENT
BEGIN:VEVENT
DTSTART;VALUE=DATE:20260930
DTEND;VALUE=DATE:20261001
DTSTAMP:20260422T215207
CREATED:20250706T232941Z
LAST-MODIFIED:20260103T170801Z
UID:10002082-1790726400-1790812799@sonrisefallbrook.com
SUMMARY:Life Group (Women) w/ Art Blodgett
DESCRIPTION:artblodgett@yahoo.com
URL:https://sonrisefallbrook.com/event/life-group-women-w-art-blodgett-45/2026-09-30/
LOCATION:Wilson Center at SonRise
END:VEVENT
BEGIN:VEVENT
DTSTART;VALUE=DATE:20261007
DTEND;VALUE=DATE:20261008
DTSTAMP:20260422T215207
CREATED:20250706T232941Z
LAST-MODIFIED:20260103T170801Z
UID:10002083-1791331200-1791417599@sonrisefallbrook.com
SUMMARY:Life Group (Women) w/ Art Blodgett
DESCRIPTION:artblodgett@yahoo.com
URL:https://sonrisefallbrook.com/event/life-group-women-w-art-blodgett-45/2026-10-07/
LOCATION:Wilson Center at SonRise
END:VEVENT
BEGIN:VEVENT
DTSTART;VALUE=DATE:20261014
DTEND;VALUE=DATE:20261015
DTSTAMP:20260422T215207
CREATED:20250706T232941Z
LAST-MODIFIED:20260103T170801Z
UID:10002084-1791936000-1792022399@sonrisefallbrook.com
SUMMARY:Life Group (Women) w/ Art Blodgett
DESCRIPTION:artblodgett@yahoo.com
URL:https://sonrisefallbrook.com/event/life-group-women-w-art-blodgett-45/2026-10-14/
LOCATION:Wilson Center at SonRise
END:VEVENT
BEGIN:VEVENT
DTSTART;VALUE=DATE:20261021
DTEND;VALUE=DATE:20261022
DTSTAMP:20260422T215207
CREATED:20250706T232941Z
LAST-MODIFIED:20260103T170801Z
UID:10002085-1792540800-1792627199@sonrisefallbrook.com
SUMMARY:Life Group (Women) w/ Art Blodgett
DESCRIPTION:artblodgett@yahoo.com
URL:https://sonrisefallbrook.com/event/life-group-women-w-art-blodgett-45/2026-10-21/
LOCATION:Wilson Center at SonRise
END:VEVENT
BEGIN:VEVENT
DTSTART;VALUE=DATE:20261028
DTEND;VALUE=DATE:20261029
DTSTAMP:20260422T215207
CREATED:20250706T232941Z
LAST-MODIFIED:20260103T170801Z
UID:10002086-1793145600-1793231999@sonrisefallbrook.com
SUMMARY:Life Group (Women) w/ Art Blodgett
DESCRIPTION:artblodgett@yahoo.com
URL:https://sonrisefallbrook.com/event/life-group-women-w-art-blodgett-45/2026-10-28/
LOCATION:Wilson Center at SonRise
END:VEVENT
BEGIN:VEVENT
DTSTART;VALUE=DATE:20261104
DTEND;VALUE=DATE:20261105
DTSTAMP:20260422T215207
CREATED:20250706T232941Z
LAST-MODIFIED:20260103T170801Z
UID:10002087-1793750400-1793836799@sonrisefallbrook.com
SUMMARY:Life Group (Women) w/ Art Blodgett
DESCRIPTION:artblodgett@yahoo.com
URL:https://sonrisefallbrook.com/event/life-group-women-w-art-blodgett-45/2026-11-04/
LOCATION:Wilson Center at SonRise
END:VEVENT
BEGIN:VEVENT
DTSTART;VALUE=DATE:20261111
DTEND;VALUE=DATE:20261112
DTSTAMP:20260422T215207
CREATED:20250706T232941Z
LAST-MODIFIED:20260103T170801Z
UID:10002088-1794355200-1794441599@sonrisefallbrook.com
SUMMARY:Life Group (Women) w/ Art Blodgett
DESCRIPTION:artblodgett@yahoo.com
URL:https://sonrisefallbrook.com/event/life-group-women-w-art-blodgett-45/2026-11-11/
LOCATION:Wilson Center at SonRise
END:VEVENT
BEGIN:VEVENT
DTSTART;VALUE=DATE:20261118
DTEND;VALUE=DATE:20261119
DTSTAMP:20260422T215207
CREATED:20250706T232941Z
LAST-MODIFIED:20260103T170801Z
UID:10002089-1794960000-1795046399@sonrisefallbrook.com
SUMMARY:Life Group (Women) w/ Art Blodgett
DESCRIPTION:artblodgett@yahoo.com
URL:https://sonrisefallbrook.com/event/life-group-women-w-art-blodgett-45/2026-11-18/
LOCATION:Wilson Center at SonRise
END:VEVENT
BEGIN:VEVENT
DTSTART;VALUE=DATE:20261125
DTEND;VALUE=DATE:20261126
DTSTAMP:20260422T215207
CREATED:20250706T232941Z
LAST-MODIFIED:20260103T170801Z
UID:10002090-1795564800-1795651199@sonrisefallbrook.com
SUMMARY:Life Group (Women) w/ Art Blodgett
DESCRIPTION:artblodgett@yahoo.com
URL:https://sonrisefallbrook.com/event/life-group-women-w-art-blodgett-45/2026-11-25/
LOCATION:Wilson Center at SonRise
END:VEVENT
BEGIN:VEVENT
DTSTART;VALUE=DATE:20261202
DTEND;VALUE=DATE:20261203
DTSTAMP:20260422T215207
CREATED:20250706T232941Z
LAST-MODIFIED:20260103T170801Z
UID:10002091-1796169600-1796255999@sonrisefallbrook.com
SUMMARY:Life Group (Women) w/ Art Blodgett
DESCRIPTION:artblodgett@yahoo.com
URL:https://sonrisefallbrook.com/event/life-group-women-w-art-blodgett-45/2026-12-02/
LOCATION:Wilson Center at SonRise
END:VEVENT
BEGIN:VEVENT
DTSTART;VALUE=DATE:20261209
DTEND;VALUE=DATE:20261210
DTSTAMP:20260422T215207
CREATED:20250706T232941Z
LAST-MODIFIED:20260103T170801Z
UID:10002092-1796774400-1796860799@sonrisefallbrook.com
SUMMARY:Life Group (Women) w/ Art Blodgett
DESCRIPTION:artblodgett@yahoo.com
URL:https://sonrisefallbrook.com/event/life-group-women-w-art-blodgett-45/2026-12-09/
LOCATION:Wilson Center at SonRise
END:VEVENT
BEGIN:VEVENT
DTSTART;VALUE=DATE:20261216
DTEND;VALUE=DATE:20261217
DTSTAMP:20260422T215207
CREATED:20250706T232941Z
LAST-MODIFIED:20260103T170801Z
UID:10002093-1797379200-1797465599@sonrisefallbrook.com
SUMMARY:Life Group (Women) w/ Art Blodgett
DESCRIPTION:artblodgett@yahoo.com
URL:https://sonrisefallbrook.com/event/life-group-women-w-art-blodgett-45/2026-12-16/
LOCATION:Wilson Center at SonRise
END:VEVENT
BEGIN:VEVENT
DTSTART;VALUE=DATE:20261223
DTEND;VALUE=DATE:20261224
DTSTAMP:20260422T215207
CREATED:20250706T232941Z
LAST-MODIFIED:20260103T170801Z
UID:10002094-1797984000-1798070399@sonrisefallbrook.com
SUMMARY:Life Group (Women) w/ Art Blodgett
DESCRIPTION:artblodgett@yahoo.com
URL:https://sonrisefallbrook.com/event/life-group-women-w-art-blodgett-45/2026-12-23/
LOCATION:Wilson Center at SonRise
END:VEVENT
BEGIN:VEVENT
DTSTART;VALUE=DATE:20261230
DTEND;VALUE=DATE:20261231
DTSTAMP:20260422T215207
CREATED:20250706T232941Z
LAST-MODIFIED:20260103T170801Z
UID:10002095-1798588800-1798675199@sonrisefallbrook.com
SUMMARY:Life Group (Women) w/ Art Blodgett
DESCRIPTION:artblodgett@yahoo.com
URL:https://sonrisefallbrook.com/event/life-group-women-w-art-blodgett-45/2026-12-30/
LOCATION:Wilson Center at SonRise
END:VEVENT
BEGIN:VEVENT
DTSTART;VALUE=DATE:20270106
DTEND;VALUE=DATE:20270107
DTSTAMP:20260422T215207
CREATED:20250706T232941Z
LAST-MODIFIED:20260103T170801Z
UID:10002096-1799193600-1799279999@sonrisefallbrook.com
SUMMARY:Life Group (Women) w/ Art Blodgett
DESCRIPTION:artblodgett@yahoo.com
URL:https://sonrisefallbrook.com/event/life-group-women-w-art-blodgett-45/2027-01-06/
LOCATION:Wilson Center at SonRise
END:VEVENT
BEGIN:VEVENT
DTSTART;VALUE=DATE:20270113
DTEND;VALUE=DATE:20270114
DTSTAMP:20260422T215207
CREATED:20250706T232941Z
LAST-MODIFIED:20260103T170801Z
UID:10002097-1799798400-1799884799@sonrisefallbrook.com
SUMMARY:Life Group (Women) w/ Art Blodgett
DESCRIPTION:artblodgett@yahoo.com
URL:https://sonrisefallbrook.com/event/life-group-women-w-art-blodgett-45/2027-01-13/
LOCATION:Wilson Center at SonRise
END:VEVENT
BEGIN:VEVENT
DTSTART;VALUE=DATE:20270120
DTEND;VALUE=DATE:20270121
DTSTAMP:20260422T215207
CREATED:20250706T232941Z
LAST-MODIFIED:20260103T170801Z
UID:10002098-1800403200-1800489599@sonrisefallbrook.com
SUMMARY:Life Group (Women) w/ Art Blodgett
DESCRIPTION:artblodgett@yahoo.com
URL:https://sonrisefallbrook.com/event/life-group-women-w-art-blodgett-45/2027-01-20/
LOCATION:Wilson Center at SonRise
END:VEVENT
BEGIN:VEVENT
DTSTART;VALUE=DATE:20270127
DTEND;VALUE=DATE:20270128
DTSTAMP:20260422T215207
CREATED:20250706T232941Z
LAST-MODIFIED:20260103T170801Z
UID:10002099-1801008000-1801094399@sonrisefallbrook.com
SUMMARY:Life Group (Women) w/ Art Blodgett
DESCRIPTION:artblodgett@yahoo.com
URL:https://sonrisefallbrook.com/event/life-group-women-w-art-blodgett-45/2027-01-27/
LOCATION:Wilson Center at SonRise
END:VEVENT
BEGIN:VEVENT
DTSTART;VALUE=DATE:20270203
DTEND;VALUE=DATE:20270204
DTSTAMP:20260422T215207
CREATED:20250706T232941Z
LAST-MODIFIED:20260103T170801Z
UID:10002100-1801612800-1801699199@sonrisefallbrook.com
SUMMARY:Life Group (Women) w/ Art Blodgett
DESCRIPTION:artblodgett@yahoo.com
URL:https://sonrisefallbrook.com/event/life-group-women-w-art-blodgett-45/2027-02-03/
LOCATION:Wilson Center at SonRise
END:VEVENT
BEGIN:VEVENT
DTSTART;VALUE=DATE:20270210
DTEND;VALUE=DATE:20270211
DTSTAMP:20260422T215207
CREATED:20250706T232941Z
LAST-MODIFIED:20260103T170801Z
UID:10002101-1802217600-1802303999@sonrisefallbrook.com
SUMMARY:Life Group (Women) w/ Art Blodgett
DESCRIPTION:artblodgett@yahoo.com
URL:https://sonrisefallbrook.com/event/life-group-women-w-art-blodgett-45/2027-02-10/
LOCATION:Wilson Center at SonRise
END:VEVENT
BEGIN:VEVENT
DTSTART;VALUE=DATE:20270217
DTEND;VALUE=DATE:20270218
DTSTAMP:20260422T215207
CREATED:20250706T232941Z
LAST-MODIFIED:20260103T170801Z
UID:10002102-1802822400-1802908799@sonrisefallbrook.com
SUMMARY:Life Group (Women) w/ Art Blodgett
DESCRIPTION:artblodgett@yahoo.com
URL:https://sonrisefallbrook.com/event/life-group-women-w-art-blodgett-45/2027-02-17/
LOCATION:Wilson Center at SonRise
END:VEVENT
BEGIN:VEVENT
DTSTART;VALUE=DATE:20270224
DTEND;VALUE=DATE:20270225
DTSTAMP:20260422T215207
CREATED:20250706T232941Z
LAST-MODIFIED:20260103T170801Z
UID:10002103-1803427200-1803513599@sonrisefallbrook.com
SUMMARY:Life Group (Women) w/ Art Blodgett
DESCRIPTION:artblodgett@yahoo.com
URL:https://sonrisefallbrook.com/event/life-group-women-w-art-blodgett-45/2027-02-24/
LOCATION:Wilson Center at SonRise
END:VEVENT
BEGIN:VEVENT
DTSTART;VALUE=DATE:20270303
DTEND;VALUE=DATE:20270304
DTSTAMP:20260422T215207
CREATED:20250706T232941Z
LAST-MODIFIED:20260103T170801Z
UID:10002104-1804032000-1804118399@sonrisefallbrook.com
SUMMARY:Life Group (Women) w/ Art Blodgett
DESCRIPTION:artblodgett@yahoo.com
URL:https://sonrisefallbrook.com/event/life-group-women-w-art-blodgett-45/2027-03-03/
LOCATION:Wilson Center at SonRise
END:VEVENT
BEGIN:VEVENT
DTSTART;VALUE=DATE:20270310
DTEND;VALUE=DATE:20270311
DTSTAMP:20260422T215207
CREATED:20250706T232941Z
LAST-MODIFIED:20260103T170801Z
UID:10002105-1804636800-1804723199@sonrisefallbrook.com
SUMMARY:Life Group (Women) w/ Art Blodgett
DESCRIPTION:artblodgett@yahoo.com
URL:https://sonrisefallbrook.com/event/life-group-women-w-art-blodgett-45/2027-03-10/
LOCATION:Wilson Center at SonRise
END:VEVENT
BEGIN:VEVENT
DTSTART;VALUE=DATE:20270317
DTEND;VALUE=DATE:20270318
DTSTAMP:20260422T215207
CREATED:20250706T232941Z
LAST-MODIFIED:20260103T170801Z
UID:10002106-1805241600-1805327999@sonrisefallbrook.com
SUMMARY:Life Group (Women) w/ Art Blodgett
DESCRIPTION:artblodgett@yahoo.com
URL:https://sonrisefallbrook.com/event/life-group-women-w-art-blodgett-45/2027-03-17/
LOCATION:Wilson Center at SonRise
END:VEVENT
BEGIN:VEVENT
DTSTART;VALUE=DATE:20270324
DTEND;VALUE=DATE:20270325
DTSTAMP:20260422T215207
CREATED:20250706T232941Z
LAST-MODIFIED:20260103T170801Z
UID:10002107-1805846400-1805932799@sonrisefallbrook.com
SUMMARY:Life Group (Women) w/ Art Blodgett
DESCRIPTION:artblodgett@yahoo.com
URL:https://sonrisefallbrook.com/event/life-group-women-w-art-blodgett-45/2027-03-24/
LOCATION:Wilson Center at SonRise
END:VEVENT
BEGIN:VEVENT
DTSTART;VALUE=DATE:20270331
DTEND;VALUE=DATE:20270401
DTSTAMP:20260422T215207
CREATED:20250706T232941Z
LAST-MODIFIED:20260103T170801Z
UID:10002108-1806451200-1806537599@sonrisefallbrook.com
SUMMARY:Life Group (Women) w/ Art Blodgett
DESCRIPTION:artblodgett@yahoo.com
URL:https://sonrisefallbrook.com/event/life-group-women-w-art-blodgett-45/2027-03-31/
LOCATION:Wilson Center at SonRise
END:VEVENT
BEGIN:VEVENT
DTSTART;VALUE=DATE:20270407
DTEND;VALUE=DATE:20270408
DTSTAMP:20260422T215207
CREATED:20250706T232941Z
LAST-MODIFIED:20260103T170801Z
UID:10002109-1807056000-1807142399@sonrisefallbrook.com
SUMMARY:Life Group (Women) w/ Art Blodgett
DESCRIPTION:artblodgett@yahoo.com
URL:https://sonrisefallbrook.com/event/life-group-women-w-art-blodgett-45/2027-04-07/
LOCATION:Wilson Center at SonRise
END:VEVENT
END:VCALENDAR